BEGIN:VCALENDAR
VERSION:2.0
PRODID:-//Ochsner Health Plan - ECPv6.7.0//NONSGML v1.0//EN
CALSCALE:GREGORIAN
METHOD:PUBLISH
X-WR-CALNAME:Ochsner Health Plan
X-ORIGINAL-URL:https://ohp.clientdev.site
X-WR-CALDESC:Events for Ochsner Health Plan
REFRESH-INTERVAL;VALUE=DURATION:PT1H
X-Robots-Tag:noindex
X-PUBLISHED-TTL:PT1H
BEGIN:VTIMEZONE
TZID:America/Chicago
BEGIN:DAYLIGHT
TZOFFSETFROM:-0600
TZOFFSETTO:-0500
TZNAME:CDT
DTSTART:20230312T080000
END:DAYLIGHT
BEGIN:STANDARD
TZOFFSETFROM:-0500
TZOFFSETTO:-0600
TZNAME:CST
DTSTART:20231105T070000
END:STANDARD
END:VTIMEZONE
BEGIN:VEVENT
DTSTART;TZID=America/Chicago:20230411T140000
DTEND;TZID=America/Chicago:20230411T160000
DTSTAMP:20260421T162027
CREATED:20230110T141407Z
LAST-MODIFIED:20230411T145933Z
UID:10000170-1681221600-1681228800@ohp.clientdev.site
SUMMARY:Baton Rouge: OHP Informational Meeting
DESCRIPTION:Find out more about OCHSNER HEALTH PLAN’S Medicare Advantage Plans at a FREE informational meeting. There’s no obligation for attending. Please bring friends! \nCall toll-free to reserve your seat at any of the FREE meetings or to learn more about other meetings in your area: (855) 431 – 3497 (TTY: 711) 8 a.m. to 8 p.m. Monday through Friday. Reservations requested but not required.\nOr fill out the form below:
URL:https://ohp.clientdev.site/event/baton-rouge-ohp-informational-meeting-2/2023-04-11/
LOCATION:Ochsner Medical Complex – The Grove\, 10310 The Grove Blvd\, Baton Rouge\, 70836
CATEGORIES:Baton Rouge
END:VEVENT
BEGIN:VEVENT
DTSTART;TZID=America/Chicago:20230411T090000
DTEND;TZID=America/Chicago:20230411T110000
DTSTAMP:20260421T162027
CREATED:20230110T140820Z
LAST-MODIFIED:20231006T155240Z
UID:10000032-1681203600-1681210800@ohp.clientdev.site
SUMMARY:Covington: OHP Informational Meeting
DESCRIPTION:Find out more about OCHSNER HEALTH PLAN’S Medicare Advantage Plans at a FREE informational meeting. There’s no obligation for attending. Please bring friends! \nCall toll-free to reserve your seat at any of the FREE meetings or to learn more about other meetings in your area: (855) 431 – 3497 (TTY: 711) 8 a.m. to 8 p.m. Monday through Friday. Reservations requested but not required.\nOr fill out the form below:
URL:https://ohp.clientdev.site/event/covington-ohp-informational-meeting/2023-04-11/
LOCATION:Ochsner Health Center – Covington\, 1000 Ochsner Blvd Rm 2518\, Covington\, 70433
CATEGORIES:Northshore
END:VEVENT
BEGIN:VEVENT
DTSTART;TZID=America/Chicago:20230406T090000
DTEND;TZID=America/Chicago:20230406T110000
DTSTAMP:20260421T162027
CREATED:20230110T140820Z
LAST-MODIFIED:20231006T155240Z
UID:10000324-1680771600-1680778800@ohp.clientdev.site
SUMMARY:Covington: OHP Informational Meeting
DESCRIPTION:Find out more about OCHSNER HEALTH PLAN’S Medicare Advantage Plans at a FREE informational meeting. There’s no obligation for attending. Please bring friends! \nCall toll-free to reserve your seat at any of the FREE meetings or to learn more about other meetings in your area: (855) 431 – 3497 (TTY: 711) 8 a.m. to 8 p.m. Monday through Friday. Reservations requested but not required.\nOr fill out the form below:
URL:https://ohp.clientdev.site/event/covington-ohp-informational-meeting/2023-04-06/
LOCATION:Ochsner Health Center – Covington\, 1000 Ochsner Blvd Rm 2518\, Covington\, 70433
CATEGORIES:Northshore
END:VEVENT
BEGIN:VEVENT
DTSTART;TZID=America/Chicago:20230405T100000
DTEND;TZID=America/Chicago:20230405T103000
DTSTAMP:20260421T162027
CREATED:20230314T211100Z
LAST-MODIFIED:20230403T181005Z
UID:10000204-1680688800-1680690600@ohp.clientdev.site
SUMMARY:How Prescription Drugs Interact Against Each Other\, Food\, Alcohol\, Supplements\, and Your Body with Alan G. Bayham
DESCRIPTION:Alan G. Bayham\, RPh\, MAOM\, AVP\, Medical Affairs\, Ochsner Health Plan\, will present ‘How Prescription Drugs Interact Against Each Other\, Food\, Alcohol\, Supplements\, and Your Body ‘. \n 
URL:https://ohp.clientdev.site/event/how-prescription-drugs-interact-against-each-other-food-alcohol-supplements-and-your-body-with-alan-g-bayham/
LOCATION:Folsom Senior Center\, 13296 LA-40\, Folsom\, LA\, 70437\, United States
CATEGORIES:Northshore
ATTACH;FMTTYPE=image/jpeg:https://ohp.clientdev.site/wp-content/uploads/2023/02/OHP-23-18-Graphics-for-Alan-Bayham-article-1078x720-OTT-2b-scaled.jpg
END:VEVENT
BEGIN:VEVENT
DTSTART;TZID=America/Chicago:20230404T090000
DTEND;TZID=America/Chicago:20230404T110000
DTSTAMP:20260421T162027
CREATED:20230110T140820Z
LAST-MODIFIED:20231006T155240Z
UID:10000323-1680598800-1680606000@ohp.clientdev.site
SUMMARY:Covington: OHP Informational Meeting
DESCRIPTION:Find out more about OCHSNER HEALTH PLAN’S Medicare Advantage Plans at a FREE informational meeting. There’s no obligation for attending. Please bring friends! \nCall toll-free to reserve your seat at any of the FREE meetings or to learn more about other meetings in your area: (855) 431 – 3497 (TTY: 711) 8 a.m. to 8 p.m. Monday through Friday. Reservations requested but not required.\nOr fill out the form below:
URL:https://ohp.clientdev.site/event/covington-ohp-informational-meeting/2023-04-04/
LOCATION:Ochsner Health Center – Covington\, 1000 Ochsner Blvd Rm 2518\, Covington\, 70433
CATEGORIES:Northshore
END:VEVENT
BEGIN:VEVENT
DTSTART;TZID=America/Chicago:20230331T103000
DTEND;TZID=America/Chicago:20230331T113000
DTSTAMP:20260421T162027
CREATED:20230110T141052Z
LAST-MODIFIED:20230110T141547Z
UID:10000069-1680258600-1680262200@ohp.clientdev.site
SUMMARY:Covington: OHP Informational Meeting
DESCRIPTION:Find out more about OCHSNER HEALTH PLAN’S Medicare Advantage Plans at a FREE informational meeting. There’s no obligation for attending. Please bring friends! \nCall toll-free to reserve your seat at any of the FREE meetings or to learn more about other meetings in your area: (855) 431 – 3497 (TTY: 711) 8 a.m. to 8 p.m. Monday through Friday. Reservations requested but not required.
URL:https://ohp.clientdev.site/event/covington-ohp-informational-meeting-2/2023-03-31/
LOCATION:Ochsner 65 Plus – Covington\, 1581 N HWY 190\, Covington\, LA\, 70433\, United States
CATEGORIES:Northshore
END:VEVENT
BEGIN:VEVENT
DTSTART;TZID=America/Chicago:20230330T103000
DTEND;TZID=America/Chicago:20230330T113000
DTSTAMP:20260421T162027
CREATED:20221001T132119Z
LAST-MODIFIED:20230411T145851Z
UID:10000149-1680172200-1680175800@ohp.clientdev.site
SUMMARY:Baton Rouge: OHP Informational Meeting
DESCRIPTION:Find out more about OCHSNER HEALTH PLAN’S Medicare Advantage Plans at a FREE informational meeting. There’s no obligation for attending. Please bring friends! \nCall toll-free to reserve your seat at any of the FREE meetings or to learn more about other meetings in your area: (855) 431 – 3497 (TTY: 711) 8 a.m. to 8 p.m. Monday through Friday. Reservations requested but not required.\nOr fill out the form below:
URL:https://ohp.clientdev.site/event/baton-rouge-12-6/2023-03-30/
LOCATION:Ochsner 65 Plus – Baton Rouge\, 7949 Jefferson Hwy\, Baton Rouge\, LA\, 70809\, United States
CATEGORIES:Baton Rouge
END:VEVENT
BEGIN:VEVENT
DTSTART;TZID=America/Chicago:20230330T090000
DTEND;TZID=America/Chicago:20230330T110000
DTSTAMP:20260421T162027
CREATED:20230110T140820Z
LAST-MODIFIED:20231006T155240Z
UID:10000322-1680166800-1680174000@ohp.clientdev.site
SUMMARY:Covington: OHP Informational Meeting
DESCRIPTION:Find out more about OCHSNER HEALTH PLAN’S Medicare Advantage Plans at a FREE informational meeting. There’s no obligation for attending. Please bring friends! \nCall toll-free to reserve your seat at any of the FREE meetings or to learn more about other meetings in your area: (855) 431 – 3497 (TTY: 711) 8 a.m. to 8 p.m. Monday through Friday. Reservations requested but not required.\nOr fill out the form below:
URL:https://ohp.clientdev.site/event/covington-ohp-informational-meeting/2023-03-30/
LOCATION:Ochsner Health Center – Covington\, 1000 Ochsner Blvd Rm 2518\, Covington\, 70433
CATEGORIES:Northshore
END:VEVENT
BEGIN:VEVENT
DTSTART;TZID=America/Chicago:20230328T090000
DTEND;TZID=America/Chicago:20230328T110000
DTSTAMP:20260421T162027
CREATED:20230110T141220Z
LAST-MODIFIED:20230411T145635Z
UID:10000089-1679994000-1680001200@ohp.clientdev.site
SUMMARY:New Orleans: OHP Informational Meeting
DESCRIPTION:Find out more about OCHSNER HEALTH PLAN’S Medicare Advantage Plans at a FREE informational meeting. There’s no obligation for attending. Please bring friends! \nCall toll-free to reserve your seat at any of the FREE meetings or to learn more about other meetings in your area: (855) 431 – 3497 (TTY: 711) 8 a.m. to 8 p.m. Monday through Friday. Reservations requested but not required.\nOr fill out the form below:
URL:https://ohp.clientdev.site/event/new-orleans-ohp-informational-meeting/2023-03-28/
LOCATION:NOLA Area: OHP Informational Meeting\, 1514 Jefferson Hwy\, New Orleans\, LA\, 70121\, United States
CATEGORIES:New Orleans
END:VEVENT
BEGIN:VEVENT
DTSTART;TZID=America/Chicago:20230328T090000
DTEND;TZID=America/Chicago:20230328T110000
DTSTAMP:20260421T162027
CREATED:20230110T140820Z
LAST-MODIFIED:20231006T155240Z
UID:10000321-1679994000-1680001200@ohp.clientdev.site
SUMMARY:Covington: OHP Informational Meeting
DESCRIPTION:Find out more about OCHSNER HEALTH PLAN’S Medicare Advantage Plans at a FREE informational meeting. There’s no obligation for attending. Please bring friends! \nCall toll-free to reserve your seat at any of the FREE meetings or to learn more about other meetings in your area: (855) 431 – 3497 (TTY: 711) 8 a.m. to 8 p.m. Monday through Friday. Reservations requested but not required.\nOr fill out the form below:
URL:https://ohp.clientdev.site/event/covington-ohp-informational-meeting/2023-03-28/
LOCATION:Ochsner Health Center – Covington\, 1000 Ochsner Blvd Rm 2518\, Covington\, 70433
CATEGORIES:Northshore
END:VEVENT
BEGIN:VEVENT
DTSTART;TZID=America/Chicago:20230323T090000
DTEND;TZID=America/Chicago:20230323T110000
DTSTAMP:20260421T162027
CREATED:20230110T140820Z
LAST-MODIFIED:20231006T155240Z
UID:10000320-1679562000-1679569200@ohp.clientdev.site
SUMMARY:Covington: OHP Informational Meeting
DESCRIPTION:Find out more about OCHSNER HEALTH PLAN’S Medicare Advantage Plans at a FREE informational meeting. There’s no obligation for attending. Please bring friends! \nCall toll-free to reserve your seat at any of the FREE meetings or to learn more about other meetings in your area: (855) 431 – 3497 (TTY: 711) 8 a.m. to 8 p.m. Monday through Friday. Reservations requested but not required.\nOr fill out the form below:
URL:https://ohp.clientdev.site/event/covington-ohp-informational-meeting/2023-03-23/
LOCATION:Ochsner Health Center – Covington\, 1000 Ochsner Blvd Rm 2518\, Covington\, 70433
CATEGORIES:Northshore
END:VEVENT
BEGIN:VEVENT
DTSTART;TZID=America/Chicago:20230321T090000
DTEND;TZID=America/Chicago:20230321T110000
DTSTAMP:20260421T162027
CREATED:20230110T140820Z
LAST-MODIFIED:20231006T155240Z
UID:10000319-1679389200-1679396400@ohp.clientdev.site
SUMMARY:Covington: OHP Informational Meeting
DESCRIPTION:Find out more about OCHSNER HEALTH PLAN’S Medicare Advantage Plans at a FREE informational meeting. There’s no obligation for attending. Please bring friends! \nCall toll-free to reserve your seat at any of the FREE meetings or to learn more about other meetings in your area: (855) 431 – 3497 (TTY: 711) 8 a.m. to 8 p.m. Monday through Friday. Reservations requested but not required.\nOr fill out the form below:
URL:https://ohp.clientdev.site/event/covington-ohp-informational-meeting/2023-03-21/
LOCATION:Ochsner Health Center – Covington\, 1000 Ochsner Blvd Rm 2518\, Covington\, 70433
CATEGORIES:Northshore
END:VEVENT
BEGIN:VEVENT
DTSTART;TZID=America/Chicago:20230316T090000
DTEND;TZID=America/Chicago:20230316T110000
DTSTAMP:20260421T162027
CREATED:20230110T140820Z
LAST-MODIFIED:20231006T155240Z
UID:10000318-1678957200-1678964400@ohp.clientdev.site
SUMMARY:Covington: OHP Informational Meeting
DESCRIPTION:Find out more about OCHSNER HEALTH PLAN’S Medicare Advantage Plans at a FREE informational meeting. There’s no obligation for attending. Please bring friends! \nCall toll-free to reserve your seat at any of the FREE meetings or to learn more about other meetings in your area: (855) 431 – 3497 (TTY: 711) 8 a.m. to 8 p.m. Monday through Friday. Reservations requested but not required.\nOr fill out the form below:
URL:https://ohp.clientdev.site/event/covington-ohp-informational-meeting/2023-03-16/
LOCATION:Ochsner Health Center – Covington\, 1000 Ochsner Blvd Rm 2518\, Covington\, 70433
CATEGORIES:Northshore
END:VEVENT
BEGIN:VEVENT
DTSTART;TZID=America/Chicago:20230314T140000
DTEND;TZID=America/Chicago:20230314T160000
DTSTAMP:20260421T162027
CREATED:20230110T141407Z
LAST-MODIFIED:20230411T145933Z
UID:10000169-1678802400-1678809600@ohp.clientdev.site
SUMMARY:Baton Rouge: OHP Informational Meeting
DESCRIPTION:Find out more about OCHSNER HEALTH PLAN’S Medicare Advantage Plans at a FREE informational meeting. There’s no obligation for attending. Please bring friends! \nCall toll-free to reserve your seat at any of the FREE meetings or to learn more about other meetings in your area: (855) 431 – 3497 (TTY: 711) 8 a.m. to 8 p.m. Monday through Friday. Reservations requested but not required.\nOr fill out the form below:
URL:https://ohp.clientdev.site/event/baton-rouge-ohp-informational-meeting-2/2023-03-14/
LOCATION:Ochsner Medical Complex – The Grove\, 10310 The Grove Blvd\, Baton Rouge\, 70836
CATEGORIES:Baton Rouge
END:VEVENT
BEGIN:VEVENT
DTSTART;TZID=America/Chicago:20230314T090000
DTEND;TZID=America/Chicago:20230314T110000
DTSTAMP:20260421T162027
CREATED:20230110T140820Z
LAST-MODIFIED:20231006T155240Z
UID:10000031-1678784400-1678791600@ohp.clientdev.site
SUMMARY:Covington: OHP Informational Meeting
DESCRIPTION:Find out more about OCHSNER HEALTH PLAN’S Medicare Advantage Plans at a FREE informational meeting. There’s no obligation for attending. Please bring friends! \nCall toll-free to reserve your seat at any of the FREE meetings or to learn more about other meetings in your area: (855) 431 – 3497 (TTY: 711) 8 a.m. to 8 p.m. Monday through Friday. Reservations requested but not required.\nOr fill out the form below:
URL:https://ohp.clientdev.site/event/covington-ohp-informational-meeting/2023-03-14/
LOCATION:Ochsner Health Center – Covington\, 1000 Ochsner Blvd Rm 2518\, Covington\, 70433
CATEGORIES:Northshore
END:VEVENT
BEGIN:VEVENT
DTSTART;TZID=America/Chicago:20230310T120000
DTEND;TZID=America/Chicago:20230310T133000
DTSTAMP:20260421T162027
CREATED:20230228T015612Z
LAST-MODIFIED:20230228T015612Z
UID:10000200-1678449600-1678455000@ohp.clientdev.site
SUMMARY:How Prescription Drugs Interact Against Each Other\, Food\, Alcohol\, Supplements\, and Your Body with Alan G. Bayham
DESCRIPTION:Alan G. Bayham\, RPh\, MAOM\, AVP\, Medical Affairs\, Ochsner Health Plan\, will present ‘How Prescription Drugs Interact Against Each Other\, Food\, Alcohol\, Supplements\, and Your Body ‘. \n \n 
URL:https://ohp.clientdev.site/event/how-prescription-drugs-interact-3/
LOCATION:Ochsner Fitness Center – Harahan\, Auditorium\, 1200 S Clearview Pkwy\, Elmwood\, LA\, 70123\, United States
CATEGORIES:Harahan,New Orleans
END:VEVENT
BEGIN:VEVENT
DTSTART;TZID=America/Chicago:20230309T120000
DTEND;TZID=America/Chicago:20230309T133000
DTSTAMP:20260421T162027
CREATED:20230228T015534Z
LAST-MODIFIED:20230228T015534Z
UID:10000199-1678363200-1678368600@ohp.clientdev.site
SUMMARY:How Prescription Drugs Interact Against Each Other\, Food\, Alcohol\, Supplements\, and Your Body with Alan G. Bayham
DESCRIPTION:Alan G. Bayham\, RPh\, MAOM\, AVP\, Medical Affairs\, Ochsner Health Plan\, will present ‘How Prescription Drugs Interact Against Each Other\, Food\, Alcohol\, Supplements\, and Your Body ‘. \n \n 
URL:https://ohp.clientdev.site/event/how-prescription-drugs-interact-2/
LOCATION:Greater Good Hope Baptist Church\, 47 Cathy St.\, Norco\, LA\, 70079\, United States
END:VEVENT
BEGIN:VEVENT
DTSTART;TZID=America/Chicago:20230309T090000
DTEND;TZID=America/Chicago:20230309T110000
DTSTAMP:20260421T162027
CREATED:20230110T140820Z
LAST-MODIFIED:20231006T155240Z
UID:10000317-1678352400-1678359600@ohp.clientdev.site
SUMMARY:Covington: OHP Informational Meeting
DESCRIPTION:Find out more about OCHSNER HEALTH PLAN’S Medicare Advantage Plans at a FREE informational meeting. There’s no obligation for attending. Please bring friends! \nCall toll-free to reserve your seat at any of the FREE meetings or to learn more about other meetings in your area: (855) 431 – 3497 (TTY: 711) 8 a.m. to 8 p.m. Monday through Friday. Reservations requested but not required.\nOr fill out the form below:
URL:https://ohp.clientdev.site/event/covington-ohp-informational-meeting/2023-03-09/
LOCATION:Ochsner Health Center – Covington\, 1000 Ochsner Blvd Rm 2518\, Covington\, 70433
CATEGORIES:Northshore
END:VEVENT
BEGIN:VEVENT
DTSTART;TZID=America/Chicago:20230307T103000
DTEND;TZID=America/Chicago:20230307T113000
DTSTAMP:20260421T162027
CREATED:20230228T015428Z
LAST-MODIFIED:20230314T211508Z
UID:10000198-1678185000-1678188600@ohp.clientdev.site
SUMMARY:How Prescription Drugs Interact Against Each Other\, Food\, Alcohol\, Supplements\, and Your Body with Alan G. Bayham
DESCRIPTION:Alan G. Bayham\, RPh\, MAOM\, AVP\, Medical Affairs\, Ochsner Health Plan\, will present ‘How Prescription Drugs Interact Against Each Other\, Food\, Alcohol\, Supplements\, and Your Body ‘. \n \n 
URL:https://ohp.clientdev.site/event/how-prescription-drugs-interact/
LOCATION:Ochsner 65 Plus – Covington\, 1581 N HWY 190\, Covington\, LA\, 70433\, United States
CATEGORIES:Northshore
END:VEVENT
BEGIN:VEVENT
DTSTART;TZID=America/Chicago:20230307T090000
DTEND;TZID=America/Chicago:20230307T110000
DTSTAMP:20260421T162027
CREATED:20230110T140820Z
LAST-MODIFIED:20231006T155240Z
UID:10000316-1678179600-1678186800@ohp.clientdev.site
SUMMARY:Covington: OHP Informational Meeting
DESCRIPTION:Find out more about OCHSNER HEALTH PLAN’S Medicare Advantage Plans at a FREE informational meeting. There’s no obligation for attending. Please bring friends! \nCall toll-free to reserve your seat at any of the FREE meetings or to learn more about other meetings in your area: (855) 431 – 3497 (TTY: 711) 8 a.m. to 8 p.m. Monday through Friday. Reservations requested but not required.\nOr fill out the form below:
URL:https://ohp.clientdev.site/event/covington-ohp-informational-meeting/2023-03-07/
LOCATION:Ochsner Health Center – Covington\, 1000 Ochsner Blvd Rm 2518\, Covington\, 70433
CATEGORIES:Northshore
END:VEVENT
BEGIN:VEVENT
DTSTART;TZID=America/Chicago:20230302T090000
DTEND;TZID=America/Chicago:20230302T110000
DTSTAMP:20260421T162027
CREATED:20230110T140820Z
LAST-MODIFIED:20231006T155240Z
UID:10000315-1677747600-1677754800@ohp.clientdev.site
SUMMARY:Covington: OHP Informational Meeting
DESCRIPTION:Find out more about OCHSNER HEALTH PLAN’S Medicare Advantage Plans at a FREE informational meeting. There’s no obligation for attending. Please bring friends! \nCall toll-free to reserve your seat at any of the FREE meetings or to learn more about other meetings in your area: (855) 431 – 3497 (TTY: 711) 8 a.m. to 8 p.m. Monday through Friday. Reservations requested but not required.\nOr fill out the form below:
URL:https://ohp.clientdev.site/event/covington-ohp-informational-meeting/2023-03-02/
LOCATION:Ochsner Health Center – Covington\, 1000 Ochsner Blvd Rm 2518\, Covington\, 70433
CATEGORIES:Northshore
END:VEVENT
BEGIN:VEVENT
DTSTART;TZID=America/Chicago:20230301T120000
DTEND;TZID=America/Chicago:20230301T133000
DTSTAMP:20260421T162027
CREATED:20230228T015202Z
LAST-MODIFIED:20230228T015202Z
UID:10000197-1677672000-1677677400@ohp.clientdev.site
SUMMARY:'Know the early signs of Stroke & Heart Attack' - with Ann Kay Logarbo\, MD
DESCRIPTION:Ann Kay Logarbo MD\, FAAP\, medical director\, Ochsner Health Plan\, will present ‘Know the early signs of Stroke & Heart Attack’.
URL:https://ohp.clientdev.site/event/know-the-early-signs-of-stroke-heart-attack-with-ann-kay-logarbo-md-3/
LOCATION:St. Philip’s Episcopal Church\, 3643 Aurora Dr\, New Orleans\, LA\, 70131\, United States
CATEGORIES:New Orleans
END:VEVENT
BEGIN:VEVENT
DTSTART;TZID=America/Chicago:20230228T120000
DTEND;TZID=America/Chicago:20230228T133000
DTSTAMP:20260421T162027
CREATED:20230228T020039Z
LAST-MODIFIED:20230228T020039Z
UID:10000201-1677585600-1677591000@ohp.clientdev.site
SUMMARY:'Medicare 101'
DESCRIPTION:‘Medicare 101’ Presentation at New Home Baptist Church
URL:https://ohp.clientdev.site/event/medicare-101/
LOCATION:New Home Ministries\, 1616 Robert C Blake Sr Dr.\, New Orleans\, LA\, 70130\, United States
CATEGORIES:New Orleans
END:VEVENT
BEGIN:VEVENT
DTSTART;TZID=America/Chicago:20230228T090000
DTEND;TZID=America/Chicago:20230228T110000
DTSTAMP:20260421T162027
CREATED:20230110T141220Z
LAST-MODIFIED:20230411T145635Z
UID:10000088-1677574800-1677582000@ohp.clientdev.site
SUMMARY:New Orleans: OHP Informational Meeting
DESCRIPTION:Find out more about OCHSNER HEALTH PLAN’S Medicare Advantage Plans at a FREE informational meeting. There’s no obligation for attending. Please bring friends! \nCall toll-free to reserve your seat at any of the FREE meetings or to learn more about other meetings in your area: (855) 431 – 3497 (TTY: 711) 8 a.m. to 8 p.m. Monday through Friday. Reservations requested but not required.\nOr fill out the form below:
URL:https://ohp.clientdev.site/event/new-orleans-ohp-informational-meeting/2023-02-28/
LOCATION:NOLA Area: OHP Informational Meeting\, 1514 Jefferson Hwy\, New Orleans\, LA\, 70121\, United States
CATEGORIES:New Orleans
END:VEVENT
BEGIN:VEVENT
DTSTART;TZID=America/Chicago:20230228T090000
DTEND;TZID=America/Chicago:20230228T110000
DTSTAMP:20260421T162027
CREATED:20230110T140820Z
LAST-MODIFIED:20231006T155240Z
UID:10000314-1677574800-1677582000@ohp.clientdev.site
SUMMARY:Covington: OHP Informational Meeting
DESCRIPTION:Find out more about OCHSNER HEALTH PLAN’S Medicare Advantage Plans at a FREE informational meeting. There’s no obligation for attending. Please bring friends! \nCall toll-free to reserve your seat at any of the FREE meetings or to learn more about other meetings in your area: (855) 431 – 3497 (TTY: 711) 8 a.m. to 8 p.m. Monday through Friday. Reservations requested but not required.\nOr fill out the form below:
URL:https://ohp.clientdev.site/event/covington-ohp-informational-meeting/2023-02-28/
LOCATION:Ochsner Health Center – Covington\, 1000 Ochsner Blvd Rm 2518\, Covington\, 70433
CATEGORIES:Northshore
END:VEVENT
BEGIN:VEVENT
DTSTART;TZID=America/Chicago:20230227T110000
DTEND;TZID=America/Chicago:20230227T123000
DTSTAMP:20260421T162027
CREATED:20230125T233636Z
LAST-MODIFIED:20230308T164430Z
UID:10000195-1677495600-1677501000@ohp.clientdev.site
SUMMARY:Harahan: OHP Informational Meeting
DESCRIPTION:Find out more about OCHSNER HEALTH PLAN’S Medicare Advantage Plans at a FREE informational meeting. There’s no obligation for attending. Please bring friends! \nCall toll-free to reserve your seat at any of the FREE meetings or to learn more about other meetings in your area: (855) 431 – 3497 (TTY: 711) 8 a.m. to 8 p.m. Monday through Friday. Reservations requested but not required.
URL:https://ohp.clientdev.site/event/harahan-ohp-informational-meeting/
LOCATION:Ochsner Fitness Center – Harahan\, Auditorium\, 1200 S Clearview Pkwy\, Elmwood\, LA\, 70123\, United States
END:VEVENT
BEGIN:VEVENT
DTSTART;TZID=America/Chicago:20230224T103000
DTEND;TZID=America/Chicago:20230224T113000
DTSTAMP:20260421T162027
CREATED:20230110T141052Z
LAST-MODIFIED:20230110T141547Z
UID:10000068-1677234600-1677238200@ohp.clientdev.site
SUMMARY:Covington: OHP Informational Meeting
DESCRIPTION:Find out more about OCHSNER HEALTH PLAN’S Medicare Advantage Plans at a FREE informational meeting. There’s no obligation for attending. Please bring friends! \nCall toll-free to reserve your seat at any of the FREE meetings or to learn more about other meetings in your area: (855) 431 – 3497 (TTY: 711) 8 a.m. to 8 p.m. Monday through Friday. Reservations requested but not required.
URL:https://ohp.clientdev.site/event/covington-ohp-informational-meeting-2/2023-02-24/
LOCATION:Ochsner 65 Plus – Covington\, 1581 N HWY 190\, Covington\, LA\, 70433\, United States
CATEGORIES:Northshore
END:VEVENT
BEGIN:VEVENT
DTSTART;TZID=America/Chicago:20230223T103000
DTEND;TZID=America/Chicago:20230223T113000
DTSTAMP:20260421T162027
CREATED:20221001T132119Z
LAST-MODIFIED:20230411T145851Z
UID:10000148-1677148200-1677151800@ohp.clientdev.site
SUMMARY:Baton Rouge: OHP Informational Meeting
DESCRIPTION:Find out more about OCHSNER HEALTH PLAN’S Medicare Advantage Plans at a FREE informational meeting. There’s no obligation for attending. Please bring friends! \nCall toll-free to reserve your seat at any of the FREE meetings or to learn more about other meetings in your area: (855) 431 – 3497 (TTY: 711) 8 a.m. to 8 p.m. Monday through Friday. Reservations requested but not required.\nOr fill out the form below:
URL:https://ohp.clientdev.site/event/baton-rouge-12-6/2023-02-23/
LOCATION:Ochsner 65 Plus – Baton Rouge\, 7949 Jefferson Hwy\, Baton Rouge\, LA\, 70809\, United States
CATEGORIES:Baton Rouge
END:VEVENT
BEGIN:VEVENT
DTSTART;TZID=America/Chicago:20230223T090000
DTEND;TZID=America/Chicago:20230223T110000
DTSTAMP:20260421T162027
CREATED:20230110T140820Z
LAST-MODIFIED:20231006T155240Z
UID:10000313-1677142800-1677150000@ohp.clientdev.site
SUMMARY:Covington: OHP Informational Meeting
DESCRIPTION:Find out more about OCHSNER HEALTH PLAN’S Medicare Advantage Plans at a FREE informational meeting. There’s no obligation for attending. Please bring friends! \nCall toll-free to reserve your seat at any of the FREE meetings or to learn more about other meetings in your area: (855) 431 – 3497 (TTY: 711) 8 a.m. to 8 p.m. Monday through Friday. Reservations requested but not required.\nOr fill out the form below:
URL:https://ohp.clientdev.site/event/covington-ohp-informational-meeting/2023-02-23/
LOCATION:Ochsner Health Center – Covington\, 1000 Ochsner Blvd Rm 2518\, Covington\, 70433
CATEGORIES:Northshore
END:VEVENT
BEGIN:VEVENT
DTSTART;TZID=America/Chicago:20230221T090000
DTEND;TZID=America/Chicago:20230221T110000
DTSTAMP:20260421T162027
CREATED:20230110T140820Z
LAST-MODIFIED:20231006T155240Z
UID:10000312-1676970000-1676977200@ohp.clientdev.site
SUMMARY:Covington: OHP Informational Meeting
DESCRIPTION:Find out more about OCHSNER HEALTH PLAN’S Medicare Advantage Plans at a FREE informational meeting. There’s no obligation for attending. Please bring friends! \nCall toll-free to reserve your seat at any of the FREE meetings or to learn more about other meetings in your area: (855) 431 – 3497 (TTY: 711) 8 a.m. to 8 p.m. Monday through Friday. Reservations requested but not required.\nOr fill out the form below:
URL:https://ohp.clientdev.site/event/covington-ohp-informational-meeting/2023-02-21/
LOCATION:Ochsner Health Center – Covington\, 1000 Ochsner Blvd Rm 2518\, Covington\, 70433
CATEGORIES:Northshore
END:VEVENT
END:VCALENDAR