BEGIN:VCALENDAR
VERSION:2.0
PRODID:-//Ochsner Health Plan - ECPv6.7.0//NONSGML v1.0//EN
CALSCALE:GREGORIAN
METHOD:PUBLISH
X-WR-CALNAME:Ochsner Health Plan
X-ORIGINAL-URL:https://ohp.clientdev.site
X-WR-CALDESC:Events for Ochsner Health Plan
REFRESH-INTERVAL;VALUE=DURATION:PT1H
X-Robots-Tag:noindex
X-PUBLISHED-TTL:PT1H
BEGIN:VTIMEZONE
TZID:America/Chicago
BEGIN:DAYLIGHT
TZOFFSETFROM:-0600
TZOFFSETTO:-0500
TZNAME:CDT
DTSTART:20220313T080000
END:DAYLIGHT
BEGIN:STANDARD
TZOFFSETFROM:-0500
TZOFFSETTO:-0600
TZNAME:CST
DTSTART:20221106T070000
END:STANDARD
BEGIN:DAYLIGHT
TZOFFSETFROM:-0600
TZOFFSETTO:-0500
TZNAME:CDT
DTSTART:20230312T080000
END:DAYLIGHT
BEGIN:STANDARD
TZOFFSETFROM:-0500
TZOFFSETTO:-0600
TZNAME:CST
DTSTART:20231105T070000
END:STANDARD
END:VTIMEZONE
BEGIN:VEVENT
DTSTART;TZID=America/Chicago:20230207T090000
DTEND;TZID=America/Chicago:20230207T110000
DTSTAMP:20260421T190224
CREATED:20230110T140820Z
LAST-MODIFIED:20231006T155240Z
UID:10000309-1675760400-1675767600@ohp.clientdev.site
SUMMARY:Covington: OHP Informational Meeting
DESCRIPTION:Find out more about OCHSNER HEALTH PLAN’S Medicare Advantage Plans at a FREE informational meeting. There’s no obligation for attending. Please bring friends! \nCall toll-free to reserve your seat at any of the FREE meetings or to learn more about other meetings in your area: (855) 431 – 3497 (TTY: 711) 8 a.m. to 8 p.m. Monday through Friday. Reservations requested but not required.\nOr fill out the form below:
URL:https://ohp.clientdev.site/event/covington-ohp-informational-meeting/2023-02-07/
LOCATION:Ochsner Health Center – Covington\, 1000 Ochsner Blvd Rm 2518\, Covington\, 70433
CATEGORIES:Northshore
END:VEVENT
BEGIN:VEVENT
DTSTART;TZID=America/Chicago:20230203T103000
DTEND;TZID=America/Chicago:20230203T113000
DTSTAMP:20260421T190224
CREATED:20230130T180029Z
LAST-MODIFIED:20230130T180029Z
UID:10000196-1675420200-1675423800@ohp.clientdev.site
SUMMARY:Covington: OHP Informational Meeting
DESCRIPTION:Find out more about OCHSNER HEALTH PLAN’S Medicare Advantage Plans at a FREE informational meeting. There’s no obligation for attending. Please bring friends! \nCall toll-free to reserve your seat at any of the FREE meetings or to learn more about other meetings in your area: (855) 431 – 3497 (TTY: 711) 8 a.m. to 8 p.m. Monday through Friday. Reservations requested but not required.
URL:https://ohp.clientdev.site/event/covington-ohp-informational-meeting-3/
LOCATION:Ochsner 65 Plus – Covington\, 1581 N HWY 190\, Covington\, LA\, 70433\, United States
CATEGORIES:Northshore
END:VEVENT
BEGIN:VEVENT
DTSTART;TZID=America/Chicago:20230202T090000
DTEND;TZID=America/Chicago:20230202T110000
DTSTAMP:20260421T190224
CREATED:20230110T140820Z
LAST-MODIFIED:20231006T155240Z
UID:10000308-1675328400-1675335600@ohp.clientdev.site
SUMMARY:Covington: OHP Informational Meeting
DESCRIPTION:Find out more about OCHSNER HEALTH PLAN’S Medicare Advantage Plans at a FREE informational meeting. There’s no obligation for attending. Please bring friends! \nCall toll-free to reserve your seat at any of the FREE meetings or to learn more about other meetings in your area: (855) 431 – 3497 (TTY: 711) 8 a.m. to 8 p.m. Monday through Friday. Reservations requested but not required.\nOr fill out the form below:
URL:https://ohp.clientdev.site/event/covington-ohp-informational-meeting/2023-02-02/
LOCATION:Ochsner Health Center – Covington\, 1000 Ochsner Blvd Rm 2518\, Covington\, 70433
CATEGORIES:Northshore
END:VEVENT
BEGIN:VEVENT
DTSTART;TZID=America/Chicago:20230131T090000
DTEND;TZID=America/Chicago:20230131T110000
DTSTAMP:20260421T190224
CREATED:20230110T141220Z
LAST-MODIFIED:20230411T145635Z
UID:10000087-1675155600-1675162800@ohp.clientdev.site
SUMMARY:New Orleans: OHP Informational Meeting
DESCRIPTION:Find out more about OCHSNER HEALTH PLAN’S Medicare Advantage Plans at a FREE informational meeting. There’s no obligation for attending. Please bring friends! \nCall toll-free to reserve your seat at any of the FREE meetings or to learn more about other meetings in your area: (855) 431 – 3497 (TTY: 711) 8 a.m. to 8 p.m. Monday through Friday. Reservations requested but not required.\nOr fill out the form below:
URL:https://ohp.clientdev.site/event/new-orleans-ohp-informational-meeting/2023-01-31/
LOCATION:NOLA Area: OHP Informational Meeting\, 1514 Jefferson Hwy\, New Orleans\, LA\, 70121\, United States
CATEGORIES:New Orleans
END:VEVENT
BEGIN:VEVENT
DTSTART;TZID=America/Chicago:20230131T090000
DTEND;TZID=America/Chicago:20230131T110000
DTSTAMP:20260421T190224
CREATED:20230110T140820Z
LAST-MODIFIED:20231006T155240Z
UID:10000307-1675155600-1675162800@ohp.clientdev.site
SUMMARY:Covington: OHP Informational Meeting
DESCRIPTION:Find out more about OCHSNER HEALTH PLAN’S Medicare Advantage Plans at a FREE informational meeting. There’s no obligation for attending. Please bring friends! \nCall toll-free to reserve your seat at any of the FREE meetings or to learn more about other meetings in your area: (855) 431 – 3497 (TTY: 711) 8 a.m. to 8 p.m. Monday through Friday. Reservations requested but not required.\nOr fill out the form below:
URL:https://ohp.clientdev.site/event/covington-ohp-informational-meeting/2023-01-31/
LOCATION:Ochsner Health Center – Covington\, 1000 Ochsner Blvd Rm 2518\, Covington\, 70433
CATEGORIES:Northshore
END:VEVENT
BEGIN:VEVENT
DTSTART;TZID=America/Chicago:20230127T103000
DTEND;TZID=America/Chicago:20230127T113000
DTSTAMP:20260421T190224
CREATED:20230110T141052Z
LAST-MODIFIED:20230110T141547Z
UID:10000067-1674815400-1674819000@ohp.clientdev.site
SUMMARY:Covington: OHP Informational Meeting
DESCRIPTION:Find out more about OCHSNER HEALTH PLAN’S Medicare Advantage Plans at a FREE informational meeting. There’s no obligation for attending. Please bring friends! \nCall toll-free to reserve your seat at any of the FREE meetings or to learn more about other meetings in your area: (855) 431 – 3497 (TTY: 711) 8 a.m. to 8 p.m. Monday through Friday. Reservations requested but not required.
URL:https://ohp.clientdev.site/event/covington-ohp-informational-meeting-2/2023-01-27/
LOCATION:Ochsner 65 Plus – Covington\, 1581 N HWY 190\, Covington\, LA\, 70433\, United States
CATEGORIES:Northshore
END:VEVENT
BEGIN:VEVENT
DTSTART;TZID=America/Chicago:20230126T103000
DTEND;TZID=America/Chicago:20230126T113000
DTSTAMP:20260421T190224
CREATED:20221001T132119Z
LAST-MODIFIED:20230411T145851Z
UID:10000147-1674729000-1674732600@ohp.clientdev.site
SUMMARY:Baton Rouge: OHP Informational Meeting
DESCRIPTION:Find out more about OCHSNER HEALTH PLAN’S Medicare Advantage Plans at a FREE informational meeting. There’s no obligation for attending. Please bring friends! \nCall toll-free to reserve your seat at any of the FREE meetings or to learn more about other meetings in your area: (855) 431 – 3497 (TTY: 711) 8 a.m. to 8 p.m. Monday through Friday. Reservations requested but not required.\nOr fill out the form below:
URL:https://ohp.clientdev.site/event/baton-rouge-12-6/2023-01-26/
LOCATION:Ochsner 65 Plus – Baton Rouge\, 7949 Jefferson Hwy\, Baton Rouge\, LA\, 70809\, United States
CATEGORIES:Baton Rouge
END:VEVENT
BEGIN:VEVENT
DTSTART;TZID=America/Chicago:20230126T090000
DTEND;TZID=America/Chicago:20230126T110000
DTSTAMP:20260421T190224
CREATED:20230110T140820Z
LAST-MODIFIED:20231006T155240Z
UID:10000306-1674723600-1674730800@ohp.clientdev.site
SUMMARY:Covington: OHP Informational Meeting
DESCRIPTION:Find out more about OCHSNER HEALTH PLAN’S Medicare Advantage Plans at a FREE informational meeting. There’s no obligation for attending. Please bring friends! \nCall toll-free to reserve your seat at any of the FREE meetings or to learn more about other meetings in your area: (855) 431 – 3497 (TTY: 711) 8 a.m. to 8 p.m. Monday through Friday. Reservations requested but not required.\nOr fill out the form below:
URL:https://ohp.clientdev.site/event/covington-ohp-informational-meeting/2023-01-26/
LOCATION:Ochsner Health Center – Covington\, 1000 Ochsner Blvd Rm 2518\, Covington\, 70433
CATEGORIES:Northshore
END:VEVENT
BEGIN:VEVENT
DTSTART;TZID=America/Chicago:20230124T090000
DTEND;TZID=America/Chicago:20230124T110000
DTSTAMP:20260421T190224
CREATED:20230110T140820Z
LAST-MODIFIED:20231006T155240Z
UID:10000305-1674550800-1674558000@ohp.clientdev.site
SUMMARY:Covington: OHP Informational Meeting
DESCRIPTION:Find out more about OCHSNER HEALTH PLAN’S Medicare Advantage Plans at a FREE informational meeting. There’s no obligation for attending. Please bring friends! \nCall toll-free to reserve your seat at any of the FREE meetings or to learn more about other meetings in your area: (855) 431 – 3497 (TTY: 711) 8 a.m. to 8 p.m. Monday through Friday. Reservations requested but not required.\nOr fill out the form below:
URL:https://ohp.clientdev.site/event/covington-ohp-informational-meeting/2023-01-24/
LOCATION:Ochsner Health Center – Covington\, 1000 Ochsner Blvd Rm 2518\, Covington\, 70433
CATEGORIES:Northshore
END:VEVENT
BEGIN:VEVENT
DTSTART;TZID=America/Chicago:20230119T110000
DTEND;TZID=America/Chicago:20230119T120000
DTSTAMP:20260421T190224
CREATED:20230113T222328Z
LAST-MODIFIED:20230113T222342Z
UID:10000193-1674126000-1674129600@ohp.clientdev.site
SUMMARY:'Know the early signs of Stroke & Heart Attack' - with Ann Kay Logarbo\, MD
DESCRIPTION:Ann Kay Logarbo MD\, FAAP\, medical director\, Ochsner Health Plan\, will present ‘Know the early signs of Stroke & Heart Attack’ on Thurs\, Jan. 19\, 2023\, 11 AM – 12 PM\, in the auditorium at Ochsner Fitness Center (1200 South Clearview Pkwy\, Elmwood\, LA).
URL:https://ohp.clientdev.site/event/know-the-early-signs-of-stroke-heart-attack-with-ann-kay-logarbo-md/
LOCATION:Ochsner Fitness Center – Harahan\, Auditorium\, 1200 S Clearview Pkwy\, Elmwood\, LA\, 70123\, United States
CATEGORIES:Harahan,New Orleans
END:VEVENT
BEGIN:VEVENT
DTSTART;TZID=America/Chicago:20230119T090000
DTEND;TZID=America/Chicago:20230119T110000
DTSTAMP:20260421T190224
CREATED:20230110T140820Z
LAST-MODIFIED:20231006T155240Z
UID:10000304-1674118800-1674126000@ohp.clientdev.site
SUMMARY:Covington: OHP Informational Meeting
DESCRIPTION:Find out more about OCHSNER HEALTH PLAN’S Medicare Advantage Plans at a FREE informational meeting. There’s no obligation for attending. Please bring friends! \nCall toll-free to reserve your seat at any of the FREE meetings or to learn more about other meetings in your area: (855) 431 – 3497 (TTY: 711) 8 a.m. to 8 p.m. Monday through Friday. Reservations requested but not required.\nOr fill out the form below:
URL:https://ohp.clientdev.site/event/covington-ohp-informational-meeting/2023-01-19/
LOCATION:Ochsner Health Center – Covington\, 1000 Ochsner Blvd Rm 2518\, Covington\, 70433
CATEGORIES:Northshore
END:VEVENT
BEGIN:VEVENT
DTSTART;TZID=America/Chicago:20230117T090000
DTEND;TZID=America/Chicago:20230117T110000
DTSTAMP:20260421T190224
CREATED:20230110T140820Z
LAST-MODIFIED:20231006T155240Z
UID:10000303-1673946000-1673953200@ohp.clientdev.site
SUMMARY:Covington: OHP Informational Meeting
DESCRIPTION:Find out more about OCHSNER HEALTH PLAN’S Medicare Advantage Plans at a FREE informational meeting. There’s no obligation for attending. Please bring friends! \nCall toll-free to reserve your seat at any of the FREE meetings or to learn more about other meetings in your area: (855) 431 – 3497 (TTY: 711) 8 a.m. to 8 p.m. Monday through Friday. Reservations requested but not required.\nOr fill out the form below:
URL:https://ohp.clientdev.site/event/covington-ohp-informational-meeting/2023-01-17/
LOCATION:Ochsner Health Center – Covington\, 1000 Ochsner Blvd Rm 2518\, Covington\, 70433
CATEGORIES:Northshore
END:VEVENT
BEGIN:VEVENT
DTSTART;TZID=America/Chicago:20230112T090000
DTEND;TZID=America/Chicago:20230112T110000
DTSTAMP:20260421T190224
CREATED:20230110T140820Z
LAST-MODIFIED:20231006T155240Z
UID:10000302-1673514000-1673521200@ohp.clientdev.site
SUMMARY:Covington: OHP Informational Meeting
DESCRIPTION:Find out more about OCHSNER HEALTH PLAN’S Medicare Advantage Plans at a FREE informational meeting. There’s no obligation for attending. Please bring friends! \nCall toll-free to reserve your seat at any of the FREE meetings or to learn more about other meetings in your area: (855) 431 – 3497 (TTY: 711) 8 a.m. to 8 p.m. Monday through Friday. Reservations requested but not required.\nOr fill out the form below:
URL:https://ohp.clientdev.site/event/covington-ohp-informational-meeting/2023-01-12/
LOCATION:Ochsner Health Center – Covington\, 1000 Ochsner Blvd Rm 2518\, Covington\, 70433
CATEGORIES:Northshore
END:VEVENT
BEGIN:VEVENT
DTSTART;TZID=America/Chicago:20230110T140000
DTEND;TZID=America/Chicago:20230110T160000
DTSTAMP:20260421T190224
CREATED:20230110T141407Z
LAST-MODIFIED:20230411T145933Z
UID:10000167-1673359200-1673366400@ohp.clientdev.site
SUMMARY:Baton Rouge: OHP Informational Meeting
DESCRIPTION:Find out more about OCHSNER HEALTH PLAN’S Medicare Advantage Plans at a FREE informational meeting. There’s no obligation for attending. Please bring friends! \nCall toll-free to reserve your seat at any of the FREE meetings or to learn more about other meetings in your area: (855) 431 – 3497 (TTY: 711) 8 a.m. to 8 p.m. Monday through Friday. Reservations requested but not required.\nOr fill out the form below:
URL:https://ohp.clientdev.site/event/baton-rouge-ohp-informational-meeting-2/2023-01-10/
LOCATION:Ochsner Medical Complex – The Grove\, 10310 The Grove Blvd\, Baton Rouge\, 70836
CATEGORIES:Baton Rouge
END:VEVENT
BEGIN:VEVENT
DTSTART;TZID=America/Chicago:20230110T090000
DTEND;TZID=America/Chicago:20230110T110000
DTSTAMP:20260421T190224
CREATED:20230110T140820Z
LAST-MODIFIED:20231006T155240Z
UID:10000029-1673341200-1673348400@ohp.clientdev.site
SUMMARY:Covington: OHP Informational Meeting
DESCRIPTION:Find out more about OCHSNER HEALTH PLAN’S Medicare Advantage Plans at a FREE informational meeting. There’s no obligation for attending. Please bring friends! \nCall toll-free to reserve your seat at any of the FREE meetings or to learn more about other meetings in your area: (855) 431 – 3497 (TTY: 711) 8 a.m. to 8 p.m. Monday through Friday. Reservations requested but not required.\nOr fill out the form below:
URL:https://ohp.clientdev.site/event/covington-ohp-informational-meeting/2023-01-10/
LOCATION:Ochsner Health Center – Covington\, 1000 Ochsner Blvd Rm 2518\, Covington\, 70433
CATEGORIES:Northshore
END:VEVENT
BEGIN:VEVENT
DTSTART;TZID=America/Chicago:20221201T110000
DTEND;TZID=America/Chicago:20221201T123000
DTSTAMP:20260421T190224
CREATED:20221001T133919Z
LAST-MODIFIED:20221001T135511Z
UID:10000017-1669892400-1669897800@ohp.clientdev.site
SUMMARY:Harahan: OHP Informational Meeting
DESCRIPTION:Find out more about OCHSNER HEALTH PLAN’S Medicare Advantage Plans at a FREE informational meeting. There’s no obligation for attending. Please bring friends! \nCall toll-free to reserve your seat at any of the FREE meetings or to learn more about other meetings in your area: (855) 431 – 3497 (TTY: 711) 8 a.m. to 8 p.m. Monday through Friday. Reservations requested but not required.
URL:https://ohp.clientdev.site/event/harahan-12-1/
LOCATION:Ochsner Fitness Center – Harahan\, Auditorium\, 1200 S Clearview Pkwy\, Elmwood\, LA\, 70123\, United States
CATEGORIES:Harahan,New Orleans
END:VEVENT
BEGIN:VEVENT
DTSTART;TZID=America/Chicago:20221201T100000
DTEND;TZID=America/Chicago:20221201T110000
DTSTAMP:20260421T190224
CREATED:20221001T133651Z
LAST-MODIFIED:20221001T135458Z
UID:10000014-1669888800-1669892400@ohp.clientdev.site
SUMMARY:New Orleans: OHP Informational Meeting
DESCRIPTION:Find out more about OCHSNER HEALTH PLAN’S Medicare Advantage Plans at a FREE informational meeting. There’s no obligation for attending. Please bring friends! \nCall toll-free to reserve your seat at any of the FREE meetings or to learn more about other meetings in your area: (855) 431 – 3497 (TTY: 711) 8 a.m. to 8 p.m. Monday through Friday. Reservations requested but not required.
URL:https://ohp.clientdev.site/event/new-orleans-12-1/
LOCATION:Domingo and Associations\, 145 Allen Toussaint Blvd #200\, New Orleans\, 70124
CATEGORIES:New Orleans
END:VEVENT
BEGIN:VEVENT
DTSTART;TZID=America/Chicago:20221201T090000
DTEND;TZID=America/Chicago:20221201T101500
DTSTAMP:20260421T190224
CREATED:20221001T134331Z
LAST-MODIFIED:20221001T135530Z
UID:10000021-1669885200-1669889700@ohp.clientdev.site
SUMMARY:Covington: OHP Informational Meeting
DESCRIPTION:Find out more about OCHSNER HEALTH PLAN’S Medicare Advantage Plans at a FREE informational meeting. There’s no obligation for attending. Please bring friends! \nCall toll-free to reserve your seat at any of the FREE meetings or to learn more about other meetings in your area: (855) 431 – 3497 (TTY: 711) 8 a.m. to 8 p.m. Monday through Friday. Reservations requested but not required.
URL:https://ohp.clientdev.site/event/covington-12-1/
LOCATION:Ochsner 65 Plus – Covington\, 1581 N HWY 190\, Covington\, LA\, 70433\, United States
CATEGORIES:Northshore
END:VEVENT
BEGIN:VEVENT
DTSTART;TZID=America/Chicago:20221130T090000
DTEND;TZID=America/Chicago:20221130T100000
DTSTAMP:20260421T190224
CREATED:20221001T134739Z
LAST-MODIFIED:20221001T135520Z
UID:10000026-1669798800-1669802400@ohp.clientdev.site
SUMMARY:Baton Rouge: OHP Informational Meeting
DESCRIPTION:Find out more about OCHSNER HEALTH PLAN’S Medicare Advantage Plans at a FREE informational meeting. There’s no obligation for attending. Please bring friends! \nCall toll-free to reserve your seat at any of the FREE meetings or to learn more about other meetings in your area: (855) 431 – 3497 (TTY: 711) 8 a.m. to 8 p.m. Monday through Friday. Reservations requested but not required.
URL:https://ohp.clientdev.site/event/baton-rouge-11-30/
LOCATION:Ochsner 65 Plus – Baton Rouge\, 7949 Jefferson Hwy\, Baton Rouge\, LA\, 70809\, United States
CATEGORIES:Baton Rouge
END:VEVENT
BEGIN:VEVENT
DTSTART;TZID=America/Chicago:20221129T090000
DTEND;TZID=America/Chicago:20221129T110000
DTSTAMP:20260421T190224
CREATED:20221001T132910Z
LAST-MODIFIED:20221001T135458Z
UID:10000008-1669712400-1669719600@ohp.clientdev.site
SUMMARY:New Orleans: OHP Informational Meeting
DESCRIPTION:Find out more about OCHSNER HEALTH PLAN’S Medicare Advantage Plans at a FREE informational meeting. There’s no obligation for attending. Please bring friends! \nCall toll-free to reserve your seat at any of the FREE meetings or to learn more about other meetings in your area: (855) 431 – 3497 (TTY: 711) 8 a.m. to 8 p.m. Monday through Friday. Reservations requested but not required.
URL:https://ohp.clientdev.site/event/new-orleans-11-29/
LOCATION:NOLA Area: OHP Informational Meeting\, 1514 Jefferson Hwy\, New Orleans\, LA\, 70121\, United States
CATEGORIES:New Orleans
END:VEVENT
BEGIN:VEVENT
DTSTART;TZID=America/Chicago:20221125T103000
DTEND;TZID=America/Chicago:20221125T113000
DTSTAMP:20260421T190224
CREATED:20221001T133014Z
LAST-MODIFIED:20221008T004214Z
UID:10000009-1669372200-1669375800@ohp.clientdev.site
SUMMARY:Covington: OHP Informational Meeting
DESCRIPTION:Find out more about OCHSNER HEALTH PLAN’S Medicare Advantage Plans at a FREE informational meeting. There’s no obligation for attending. Please bring friends! \nCall toll-free to reserve your seat at any of the FREE meetings or to learn more about other meetings in your area: (855) 431 – 3497 (TTY: 711) 8 a.m. to 8 p.m. Monday through Friday. Reservations requested but not required.
URL:https://ohp.clientdev.site/event/covington-11-25/
LOCATION:Ochsner 65 Plus – Covington\, 1581 N HWY 190\, Covington\, LA\, 70433\, United States
CATEGORIES:Northshore
END:VEVENT
BEGIN:VEVENT
DTSTART;TZID=America/Chicago:20221117T130000
DTEND;TZID=America/Chicago:20221117T143000
DTSTAMP:20260421T190224
CREATED:20221001T134631Z
LAST-MODIFIED:20221001T135520Z
UID:10000024-1668690000-1668695400@ohp.clientdev.site
SUMMARY:Baton Rouge: OHP Informational Meeting
DESCRIPTION:Find out more about OCHSNER HEALTH PLAN’S Medicare Advantage Plans at a FREE informational meeting. There’s no obligation for attending. Please bring friends! \nCall toll-free to reserve your seat at any of the FREE meetings or to learn more about other meetings in your area: (855) 431 – 3497 (TTY: 711) 8 a.m. to 8 p.m. Monday through Friday. Reservations requested but not required.
URL:https://ohp.clientdev.site/event/baton-rouge-11-17-2/
LOCATION:Ochsner 65 Plus – Baton Rouge\, 7949 Jefferson Hwy\, Baton Rouge\, LA\, 70809\, United States
CATEGORIES:Baton Rouge
END:VEVENT
BEGIN:VEVENT
DTSTART;TZID=America/Chicago:20221117T090000
DTEND;TZID=America/Chicago:20221117T101500
DTSTAMP:20260421T190224
CREATED:20221001T134703Z
LAST-MODIFIED:20221001T135520Z
UID:10000025-1668675600-1668680100@ohp.clientdev.site
SUMMARY:Baton Rouge: OHP Informational Meeting
DESCRIPTION:Find out more about OCHSNER HEALTH PLAN’S Medicare Advantage Plans at a FREE informational meeting. There’s no obligation for attending. Please bring friends! \nCall toll-free to reserve your seat at any of the FREE meetings or to learn more about other meetings in your area: (855) 431 – 3497 (TTY: 711) 8 a.m. to 8 p.m. Monday through Friday. Reservations requested but not required.
URL:https://ohp.clientdev.site/event/baton-rouge-11-17/
LOCATION:Ochsner 65 Plus – Baton Rouge\, 7949 Jefferson Hwy\, Baton Rouge\, LA\, 70809\, United States
CATEGORIES:Baton Rouge
END:VEVENT
BEGIN:VEVENT
DTSTART;TZID=America/Chicago:20221115T124500
DTEND;TZID=America/Chicago:20221115T134500
DTSTAMP:20260421T190224
CREATED:20221001T134216Z
LAST-MODIFIED:20221001T135531Z
UID:10000020-1668516300-1668519900@ohp.clientdev.site
SUMMARY:Covington: OHP Informational Meeting
DESCRIPTION:Find out more about OCHSNER HEALTH PLAN’S Medicare Advantage Plans at a FREE informational meeting. There’s no obligation for attending. Please bring friends! \nCall toll-free to reserve your seat at any of the FREE meetings or to learn more about other meetings in your area: (855) 431 – 3497 (TTY: 711) 8 a.m. to 8 p.m. Monday through Friday. Reservations requested but not required.
URL:https://ohp.clientdev.site/event/covington-11-3-2/
LOCATION:Ochsner 65 Plus – Covington\, 1581 N HWY 190\, Covington\, LA\, 70433\, United States
CATEGORIES:Northshore
END:VEVENT
BEGIN:VEVENT
DTSTART;TZID=America/Chicago:20221115T100000
DTEND;TZID=America/Chicago:20221115T110000
DTSTAMP:20260421T190224
CREATED:20221001T133632Z
LAST-MODIFIED:20221001T135458Z
UID:10000013-1668506400-1668510000@ohp.clientdev.site
SUMMARY:New Orleans: OHP Informational Meeting
DESCRIPTION:Find out more about OCHSNER HEALTH PLAN’S Medicare Advantage Plans at a FREE informational meeting. There’s no obligation for attending. Please bring friends! \nCall toll-free to reserve your seat at any of the FREE meetings or to learn more about other meetings in your area: (855) 431 – 3497 (TTY: 711) 8 a.m. to 8 p.m. Monday through Friday. Reservations requested but not required.
URL:https://ohp.clientdev.site/event/new-orleans-11-15/
LOCATION:Domingo and Associations\, 145 Allen Toussaint Blvd #200\, New Orleans\, 70124
CATEGORIES:New Orleans
END:VEVENT
BEGIN:VEVENT
DTSTART;TZID=America/Chicago:20221115T090000
DTEND;TZID=America/Chicago:20221115T101500
DTSTAMP:20260421T190224
CREATED:20221001T134136Z
LAST-MODIFIED:20221001T135531Z
UID:10000019-1668502800-1668507300@ohp.clientdev.site
SUMMARY:Covington: OHP Informational Meeting
DESCRIPTION:Find out more about OCHSNER HEALTH PLAN’S Medicare Advantage Plans at a FREE informational meeting. There’s no obligation for attending. Please bring friends! \nCall toll-free to reserve your seat at any of the FREE meetings or to learn more about other meetings in your area: (855) 431 – 3497 (TTY: 711) 8 a.m. to 8 p.m. Monday through Friday. Reservations requested but not required.
URL:https://ohp.clientdev.site/event/covington-11-3/
LOCATION:Ochsner 65 Plus – Covington\, 1581 N HWY 190\, Covington\, LA\, 70433\, United States
CATEGORIES:Northshore
END:VEVENT
BEGIN:VEVENT
DTSTART;TZID=America/Chicago:20221110T140000
DTEND;TZID=America/Chicago:20221110T160000
DTSTAMP:20260421T190224
CREATED:20221001T132615Z
LAST-MODIFIED:20221001T135520Z
UID:10000006-1668088800-1668096000@ohp.clientdev.site
SUMMARY:Baton Rouge: OHP Informational Meeting
DESCRIPTION:Find out more about OCHSNER HEALTH PLAN’S Medicare Advantage Plans at a FREE informational meeting. There’s no obligation for attending. Please bring friends! \nCall toll-free to reserve your seat at any of the FREE meetings or to learn more about other meetings in your area: (855) 431 – 3497 (TTY: 711) 8 a.m. to 8 p.m. Monday through Friday. Reservations requested but not required.
URL:https://ohp.clientdev.site/event/baton-rouge-11-10/
LOCATION:Ochsner Medical Complex – The Grove\, 10310 The Grove Blvd\, Baton Rouge\, 70836
CATEGORIES:Baton Rouge
END:VEVENT
BEGIN:VEVENT
DTSTART;TZID=America/Chicago:20221108T090000
DTEND;TZID=America/Chicago:20221108T110000
DTSTAMP:20260421T190224
CREATED:20221001T132531Z
LAST-MODIFIED:20221001T135531Z
UID:10000005-1667898000-1667905200@ohp.clientdev.site
SUMMARY:Covington: OHP Informational Meeting
DESCRIPTION:Find out more about OCHSNER HEALTH PLAN’S Medicare Advantage Plans at a FREE informational meeting. There’s no obligation for attending. Please bring friends! \nCall toll-free to reserve your seat at any of the FREE meetings or to learn more about other meetings in your area: (855) 431 – 3497 (TTY: 711) 8 a.m. to 8 p.m. Monday through Friday. Reservations requested but not required.
URL:https://ohp.clientdev.site/event/covington-ohp-11-8/
LOCATION:Ochsner Health Center – Covington\, 1000 Ochsner Blvd Rm 2518\, Covington\, 70433
CATEGORIES:Northshore
END:VEVENT
BEGIN:VEVENT
DTSTART;TZID=America/Chicago:20221104T100000
DTEND;TZID=America/Chicago:20221104T110000
DTSTAMP:20260421T190224
CREATED:20221001T133612Z
LAST-MODIFIED:20221001T135458Z
UID:10000012-1667556000-1667559600@ohp.clientdev.site
SUMMARY:New Orleans: OHP Informational Meeting
DESCRIPTION:Find out more about OCHSNER HEALTH PLAN’S Medicare Advantage Plans at a FREE informational meeting. There’s no obligation for attending. Please bring friends! \nCall toll-free to reserve your seat at any of the FREE meetings or to learn more about other meetings in your area: (855) 431 – 3497 (TTY: 711) 8 a.m. to 8 p.m. Monday through Friday. Reservations requested but not required.
URL:https://ohp.clientdev.site/event/new-orleans-11-4/
LOCATION:Domingo and Associations\, 145 Allen Toussaint Blvd #200\, New Orleans\, 70124
CATEGORIES:New Orleans
END:VEVENT
BEGIN:VEVENT
DTSTART;TZID=America/Chicago:20221103T110000
DTEND;TZID=America/Chicago:20221103T123000
DTSTAMP:20260421T190224
CREATED:20221001T133857Z
LAST-MODIFIED:20221001T135511Z
UID:10000016-1667473200-1667478600@ohp.clientdev.site
SUMMARY:Harahan: OHP Informational Meeting
DESCRIPTION:Find out more about OCHSNER HEALTH PLAN’S Medicare Advantage Plans at a FREE informational meeting. There’s no obligation for attending. Please bring friends! \nCall toll-free to reserve your seat at any of the FREE meetings or to learn more about other meetings in your area: (855) 431 – 3497 (TTY: 711) 8 a.m. to 8 p.m. Monday through Friday. Reservations requested but not required.
URL:https://ohp.clientdev.site/event/harahan-11-3/
LOCATION:Ochsner Fitness Center – Harahan\, Auditorium\, 1200 S Clearview Pkwy\, Elmwood\, LA\, 70123\, United States
CATEGORIES:Harahan,New Orleans
END:VEVENT
END:VCALENDAR