BEGIN:VCALENDAR
VERSION:2.0
PRODID:-//Ochsner Health Plan - ECPv6.7.0//NONSGML v1.0//EN
CALSCALE:GREGORIAN
METHOD:PUBLISH
X-WR-CALNAME:Ochsner Health Plan
X-ORIGINAL-URL:https://ohp.clientdev.site
X-WR-CALDESC:Events for Ochsner Health Plan
REFRESH-INTERVAL;VALUE=DURATION:PT1H
X-Robots-Tag:noindex
X-PUBLISHED-TTL:PT1H
BEGIN:VTIMEZONE
TZID:America/Chicago
BEGIN:DAYLIGHT
TZOFFSETFROM:-0600
TZOFFSETTO:-0500
TZNAME:CDT
DTSTART:20230312T080000
END:DAYLIGHT
BEGIN:STANDARD
TZOFFSETFROM:-0500
TZOFFSETTO:-0600
TZNAME:CST
DTSTART:20231105T070000
END:STANDARD
END:VTIMEZONE
BEGIN:VEVENT
DTSTART;TZID=America/Chicago:20231019T090000
DTEND;TZID=America/Chicago:20231019T110000
DTSTAMP:20260422T172218
CREATED:20230110T140820Z
LAST-MODIFIED:20231006T155240Z
UID:10000372-1697706000-1697713200@ohp.clientdev.site
SUMMARY:Covington: OHP Informational Meeting
DESCRIPTION:Find out more about OCHSNER HEALTH PLAN’S Medicare Advantage Plans at a FREE informational meeting. There’s no obligation for attending. Please bring friends! \nCall toll-free to reserve your seat at any of the FREE meetings or to learn more about other meetings in your area: (855) 431 – 3497 (TTY: 711) 8 a.m. to 8 p.m. Monday through Friday. Reservations requested but not required.\nOr fill out the form below:
URL:https://ohp.clientdev.site/event/covington-ohp-informational-meeting/2023-10-19/
LOCATION:Ochsner Health Center – Covington\, 1000 Ochsner Blvd Rm 2518\, Covington\, 70433
CATEGORIES:Northshore
END:VEVENT
BEGIN:VEVENT
DTSTART;TZID=America/Chicago:20231018T100000
DTEND;TZID=America/Chicago:20231018T230000
DTSTAMP:20260422T172218
CREATED:20231006T164135Z
LAST-MODIFIED:20240930T195915Z
UID:10000443-1697623200-1697670000@ohp.clientdev.site
SUMMARY:St. Martin Area: OHP 2025 Plans Sales Seminar
DESCRIPTION:Find out more about OCHSNER HEALTH PLAN’S Medicare Advantage Plans at a FREE informational meeting. There’s no obligation for attending. Please bring friends! \nOchsner St. Martin Hospital\n210 Champagne Blvd\, Breaux Bridge\, LA 70517 \nCall toll-free to reserve your seat at any of the FREE meetings or to learn more about other meetings in your area: (855) 431 – 3497 (TTY: 711) 8 a.m. to 8 p.m. Monday through Friday. Reservations requested but not required.
URL:https://ohp.clientdev.site/event/st-martin-area-ohp-informational-meeting/2023-10-18/
LOCATION:Ochsner St. Martin Hospital\, 210 Champagne Blvd\, Breaux Bridge\, LA\, 70517\, United States
CATEGORIES:St. Martin
END:VEVENT
BEGIN:VEVENT
DTSTART;TZID=America/Chicago:20231012T090000
DTEND;TZID=America/Chicago:20231012T110000
DTSTAMP:20260422T172218
CREATED:20230110T140820Z
LAST-MODIFIED:20231006T155240Z
UID:10000371-1697101200-1697108400@ohp.clientdev.site
SUMMARY:Covington: OHP Informational Meeting
DESCRIPTION:Find out more about OCHSNER HEALTH PLAN’S Medicare Advantage Plans at a FREE informational meeting. There’s no obligation for attending. Please bring friends! \nCall toll-free to reserve your seat at any of the FREE meetings or to learn more about other meetings in your area: (855) 431 – 3497 (TTY: 711) 8 a.m. to 8 p.m. Monday through Friday. Reservations requested but not required.\nOr fill out the form below:
URL:https://ohp.clientdev.site/event/covington-ohp-informational-meeting/2023-10-12/
LOCATION:Ochsner Health Center – Covington\, 1000 Ochsner Blvd Rm 2518\, Covington\, 70433
CATEGORIES:Northshore
END:VEVENT
BEGIN:VEVENT
DTSTART;TZID=America/Chicago:20231010T090000
DTEND;TZID=America/Chicago:20231010T110000
DTSTAMP:20260422T172218
CREATED:20230110T140820Z
LAST-MODIFIED:20231006T155240Z
UID:10000038-1696928400-1696935600@ohp.clientdev.site
SUMMARY:Covington: OHP Informational Meeting
DESCRIPTION:Find out more about OCHSNER HEALTH PLAN’S Medicare Advantage Plans at a FREE informational meeting. There’s no obligation for attending. Please bring friends! \nCall toll-free to reserve your seat at any of the FREE meetings or to learn more about other meetings in your area: (855) 431 – 3497 (TTY: 711) 8 a.m. to 8 p.m. Monday through Friday. Reservations requested but not required.\nOr fill out the form below:
URL:https://ohp.clientdev.site/event/covington-ohp-informational-meeting/2023-10-10/
LOCATION:Ochsner Health Center – Covington\, 1000 Ochsner Blvd Rm 2518\, Covington\, 70433
CATEGORIES:Northshore
END:VEVENT
BEGIN:VEVENT
DTSTART;TZID=America/Chicago:20231007T100000
DTEND;TZID=America/Chicago:20231007T230000
DTSTAMP:20260422T172218
CREATED:20231006T162524Z
LAST-MODIFIED:20231006T162608Z
UID:10000383-1696672800-1696719600@ohp.clientdev.site
SUMMARY:Harahan: OHP Informational Meeting
DESCRIPTION:Find out more about OCHSNER HEALTH PLAN’S Medicare Advantage Plans at a FREE informational meeting. There’s no obligation for attending. Please bring friends! \nOchsner Fitness Center Harahan (Elmwood)\n1200 S. Clearview Pkwy\, Elmwood\, LA 70123				 \nCall toll-free to reserve your seat at any of the FREE meetings or to learn more about other meetings in your area: (855) 431 – 3497 (TTY: 711) 8 a.m. to 8 p.m. Monday through Friday. Reservations requested but not required.
URL:https://ohp.clientdev.site/event/harahan-ohp-informational-meeting-2/2023-10-07/
LOCATION:Ochsner Fitness Center – Harahan\, Auditorium\, 1200 S Clearview Pkwy\, Elmwood\, LA\, 70123\, United States
CATEGORIES:New Orleans
END:VEVENT
BEGIN:VEVENT
DTSTART;TZID=America/Chicago:20231005T090000
DTEND;TZID=America/Chicago:20231005T110000
DTSTAMP:20260422T172218
CREATED:20230110T140820Z
LAST-MODIFIED:20231006T155240Z
UID:10000370-1696496400-1696503600@ohp.clientdev.site
SUMMARY:Covington: OHP Informational Meeting
DESCRIPTION:Find out more about OCHSNER HEALTH PLAN’S Medicare Advantage Plans at a FREE informational meeting. There’s no obligation for attending. Please bring friends! \nCall toll-free to reserve your seat at any of the FREE meetings or to learn more about other meetings in your area: (855) 431 – 3497 (TTY: 711) 8 a.m. to 8 p.m. Monday through Friday. Reservations requested but not required.\nOr fill out the form below:
URL:https://ohp.clientdev.site/event/covington-ohp-informational-meeting/2023-10-05/
LOCATION:Ochsner Health Center – Covington\, 1000 Ochsner Blvd Rm 2518\, Covington\, 70433
CATEGORIES:Northshore
END:VEVENT
BEGIN:VEVENT
DTSTART;TZID=America/Chicago:20231003T090000
DTEND;TZID=America/Chicago:20231003T110000
DTSTAMP:20260422T172218
CREATED:20230110T140820Z
LAST-MODIFIED:20231006T155240Z
UID:10000369-1696323600-1696330800@ohp.clientdev.site
SUMMARY:Covington: OHP Informational Meeting
DESCRIPTION:Find out more about OCHSNER HEALTH PLAN’S Medicare Advantage Plans at a FREE informational meeting. There’s no obligation for attending. Please bring friends! \nCall toll-free to reserve your seat at any of the FREE meetings or to learn more about other meetings in your area: (855) 431 – 3497 (TTY: 711) 8 a.m. to 8 p.m. Monday through Friday. Reservations requested but not required.\nOr fill out the form below:
URL:https://ohp.clientdev.site/event/covington-ohp-informational-meeting/2023-10-03/
LOCATION:Ochsner Health Center – Covington\, 1000 Ochsner Blvd Rm 2518\, Covington\, 70433
CATEGORIES:Northshore
END:VEVENT
BEGIN:VEVENT
DTSTART;TZID=America/Chicago:20230928T090000
DTEND;TZID=America/Chicago:20230928T110000
DTSTAMP:20260422T172218
CREATED:20230110T140820Z
LAST-MODIFIED:20231006T155240Z
UID:10000368-1695891600-1695898800@ohp.clientdev.site
SUMMARY:Covington: OHP Informational Meeting
DESCRIPTION:Find out more about OCHSNER HEALTH PLAN’S Medicare Advantage Plans at a FREE informational meeting. There’s no obligation for attending. Please bring friends! \nCall toll-free to reserve your seat at any of the FREE meetings or to learn more about other meetings in your area: (855) 431 – 3497 (TTY: 711) 8 a.m. to 8 p.m. Monday through Friday. Reservations requested but not required.\nOr fill out the form below:
URL:https://ohp.clientdev.site/event/covington-ohp-informational-meeting/2023-09-28/
LOCATION:Ochsner Health Center – Covington\, 1000 Ochsner Blvd Rm 2518\, Covington\, 70433
CATEGORIES:Northshore
END:VEVENT
BEGIN:VEVENT
DTSTART;TZID=America/Chicago:20230926T090000
DTEND;TZID=America/Chicago:20230926T110000
DTSTAMP:20260422T172218
CREATED:20230110T140820Z
LAST-MODIFIED:20231006T155240Z
UID:10000367-1695718800-1695726000@ohp.clientdev.site
SUMMARY:Covington: OHP Informational Meeting
DESCRIPTION:Find out more about OCHSNER HEALTH PLAN’S Medicare Advantage Plans at a FREE informational meeting. There’s no obligation for attending. Please bring friends! \nCall toll-free to reserve your seat at any of the FREE meetings or to learn more about other meetings in your area: (855) 431 – 3497 (TTY: 711) 8 a.m. to 8 p.m. Monday through Friday. Reservations requested but not required.\nOr fill out the form below:
URL:https://ohp.clientdev.site/event/covington-ohp-informational-meeting/2023-09-26/
LOCATION:Ochsner Health Center – Covington\, 1000 Ochsner Blvd Rm 2518\, Covington\, 70433
CATEGORIES:Northshore
END:VEVENT
BEGIN:VEVENT
DTSTART;TZID=America/Chicago:20230922T120000
DTEND;TZID=America/Chicago:20230922T130000
DTSTAMP:20260422T172218
CREATED:20230727T135418Z
LAST-MODIFIED:20230727T135507Z
UID:10000250-1695384000-1695387600@ohp.clientdev.site
SUMMARY:Informational Session - Medicare 101
DESCRIPTION:  \nInformational Session – Medicare 101 \nSeptember 22nd – 12: 00 pm -1:00 pm \n2500 Belle Chasse Highway \nGretna\, LA 70056 \nRiver Room
URL:https://ohp.clientdev.site/event/informational-session-medicare-101/
LOCATION:River Room\, 2500 Belle Chasse Highway\, Gretna\, LA\, 70056\, United States
END:VEVENT
BEGIN:VEVENT
DTSTART;TZID=America/Chicago:20230921T090000
DTEND;TZID=America/Chicago:20230921T110000
DTSTAMP:20260422T172218
CREATED:20230110T140820Z
LAST-MODIFIED:20231006T155240Z
UID:10000366-1695286800-1695294000@ohp.clientdev.site
SUMMARY:Covington: OHP Informational Meeting
DESCRIPTION:Find out more about OCHSNER HEALTH PLAN’S Medicare Advantage Plans at a FREE informational meeting. There’s no obligation for attending. Please bring friends! \nCall toll-free to reserve your seat at any of the FREE meetings or to learn more about other meetings in your area: (855) 431 – 3497 (TTY: 711) 8 a.m. to 8 p.m. Monday through Friday. Reservations requested but not required.\nOr fill out the form below:
URL:https://ohp.clientdev.site/event/covington-ohp-informational-meeting/2023-09-21/
LOCATION:Ochsner Health Center – Covington\, 1000 Ochsner Blvd Rm 2518\, Covington\, 70433
CATEGORIES:Northshore
END:VEVENT
BEGIN:VEVENT
DTSTART;TZID=America/Chicago:20230919T090000
DTEND;TZID=America/Chicago:20230919T110000
DTSTAMP:20260422T172218
CREATED:20230110T140820Z
LAST-MODIFIED:20231006T155240Z
UID:10000365-1695114000-1695121200@ohp.clientdev.site
SUMMARY:Covington: OHP Informational Meeting
DESCRIPTION:Find out more about OCHSNER HEALTH PLAN’S Medicare Advantage Plans at a FREE informational meeting. There’s no obligation for attending. Please bring friends! \nCall toll-free to reserve your seat at any of the FREE meetings or to learn more about other meetings in your area: (855) 431 – 3497 (TTY: 711) 8 a.m. to 8 p.m. Monday through Friday. Reservations requested but not required.\nOr fill out the form below:
URL:https://ohp.clientdev.site/event/covington-ohp-informational-meeting/2023-09-19/
LOCATION:Ochsner Health Center – Covington\, 1000 Ochsner Blvd Rm 2518\, Covington\, 70433
CATEGORIES:Northshore
END:VEVENT
BEGIN:VEVENT
DTSTART;TZID=America/Chicago:20230918T100000
DTEND;TZID=America/Chicago:20230918T110000
DTSTAMP:20260422T172218
CREATED:20230727T140217Z
LAST-MODIFIED:20230727T140217Z
UID:10000252-1695031200-1695034800@ohp.clientdev.site
SUMMARY:Informational Session - Medicare 101
DESCRIPTION:  \nInformational Session – Medicare 101 \nSeptember 18\, 2023 – 10:00 AM -11:00 AM \nOchsner Fitness Facility – Auditorium \n1200 South Clearview Parkway\, Suite 1200 \nHarahan\, LA 70123 \n  \nMedicare 101
URL:https://ohp.clientdev.site/event/informational-session-medicare-101-2/
LOCATION:Ochsner Fitness Center – Harahan\, Auditorium\, 1200 S Clearview Pkwy\, Elmwood\, LA\, 70123\, United States
ORGANIZER;CN="Angela Pigford%2C Ochsner Health Plan":MAILTO:angela.pigford@ochsner.org
END:VEVENT
BEGIN:VEVENT
DTSTART;TZID=America/Chicago:20230914T090000
DTEND;TZID=America/Chicago:20230914T110000
DTSTAMP:20260422T172218
CREATED:20230110T140820Z
LAST-MODIFIED:20231006T155240Z
UID:10000364-1694682000-1694689200@ohp.clientdev.site
SUMMARY:Covington: OHP Informational Meeting
DESCRIPTION:Find out more about OCHSNER HEALTH PLAN’S Medicare Advantage Plans at a FREE informational meeting. There’s no obligation for attending. Please bring friends! \nCall toll-free to reserve your seat at any of the FREE meetings or to learn more about other meetings in your area: (855) 431 – 3497 (TTY: 711) 8 a.m. to 8 p.m. Monday through Friday. Reservations requested but not required.\nOr fill out the form below:
URL:https://ohp.clientdev.site/event/covington-ohp-informational-meeting/2023-09-14/
LOCATION:Ochsner Health Center – Covington\, 1000 Ochsner Blvd Rm 2518\, Covington\, 70433
CATEGORIES:Northshore
END:VEVENT
BEGIN:VEVENT
DTSTART;TZID=America/Chicago:20230912T090000
DTEND;TZID=America/Chicago:20230912T110000
DTSTAMP:20260422T172218
CREATED:20230110T140820Z
LAST-MODIFIED:20231006T155240Z
UID:10000037-1694509200-1694516400@ohp.clientdev.site
SUMMARY:Covington: OHP Informational Meeting
DESCRIPTION:Find out more about OCHSNER HEALTH PLAN’S Medicare Advantage Plans at a FREE informational meeting. There’s no obligation for attending. Please bring friends! \nCall toll-free to reserve your seat at any of the FREE meetings or to learn more about other meetings in your area: (855) 431 – 3497 (TTY: 711) 8 a.m. to 8 p.m. Monday through Friday. Reservations requested but not required.\nOr fill out the form below:
URL:https://ohp.clientdev.site/event/covington-ohp-informational-meeting/2023-09-12/
LOCATION:Ochsner Health Center – Covington\, 1000 Ochsner Blvd Rm 2518\, Covington\, 70433
CATEGORIES:Northshore
END:VEVENT
BEGIN:VEVENT
DTSTART;TZID=America/Chicago:20230908T103000
DTEND;TZID=America/Chicago:20230908T113000
DTSTAMP:20260422T172218
CREATED:20230711T203438Z
LAST-MODIFIED:20230711T203445Z
UID:10000238-1694169000-1694172600@ohp.clientdev.site
SUMMARY:Covington: OHP Informational Meeting
DESCRIPTION:Find out more about OCHSNER HEALTH PLAN’S Medicare Advantage Plans at a FREE informational meeting. There’s no obligation for attending. Please bring friends! \nCall toll-free to reserve your seat at any of the FREE meetings or to learn more about other meetings in your area: (855) 431 – 3497 (TTY: 711) 8 a.m. to 8 p.m. Monday through Friday. Reservations requested but not required.
URL:https://ohp.clientdev.site/event/weve-overcome-some-emergencies-in-louisiana-lets-prepare-for-the-next-one-5-4/
LOCATION:Ochsner 65 Plus – Covington\, 1581 N HWY 190\, Covington\, LA\, 70433\, United States
ORGANIZER;CN="Angela Pigford%2C Ochsner Health Plan":MAILTO:angela.pigford@ochsner.org
END:VEVENT
BEGIN:VEVENT
DTSTART;TZID=America/Chicago:20230907T090000
DTEND;TZID=America/Chicago:20230907T110000
DTSTAMP:20260422T172218
CREATED:20230110T140820Z
LAST-MODIFIED:20231006T155240Z
UID:10000363-1694077200-1694084400@ohp.clientdev.site
SUMMARY:Covington: OHP Informational Meeting
DESCRIPTION:Find out more about OCHSNER HEALTH PLAN’S Medicare Advantage Plans at a FREE informational meeting. There’s no obligation for attending. Please bring friends! \nCall toll-free to reserve your seat at any of the FREE meetings or to learn more about other meetings in your area: (855) 431 – 3497 (TTY: 711) 8 a.m. to 8 p.m. Monday through Friday. Reservations requested but not required.\nOr fill out the form below:
URL:https://ohp.clientdev.site/event/covington-ohp-informational-meeting/2023-09-07/
LOCATION:Ochsner Health Center – Covington\, 1000 Ochsner Blvd Rm 2518\, Covington\, 70433
CATEGORIES:Northshore
END:VEVENT
BEGIN:VEVENT
DTSTART;TZID=America/Chicago:20230905T090000
DTEND;TZID=America/Chicago:20230905T110000
DTSTAMP:20260422T172218
CREATED:20230110T140820Z
LAST-MODIFIED:20231006T155240Z
UID:10000362-1693904400-1693911600@ohp.clientdev.site
SUMMARY:Covington: OHP Informational Meeting
DESCRIPTION:Find out more about OCHSNER HEALTH PLAN’S Medicare Advantage Plans at a FREE informational meeting. There’s no obligation for attending. Please bring friends! \nCall toll-free to reserve your seat at any of the FREE meetings or to learn more about other meetings in your area: (855) 431 – 3497 (TTY: 711) 8 a.m. to 8 p.m. Monday through Friday. Reservations requested but not required.\nOr fill out the form below:
URL:https://ohp.clientdev.site/event/covington-ohp-informational-meeting/2023-09-05/
LOCATION:Ochsner Health Center – Covington\, 1000 Ochsner Blvd Rm 2518\, Covington\, 70433
CATEGORIES:Northshore
END:VEVENT
BEGIN:VEVENT
DTSTART;TZID=America/Chicago:20230831T100000
DTEND;TZID=America/Chicago:20230831T230000
DTSTAMP:20260422T172218
CREATED:20230727T135128Z
LAST-MODIFIED:20230727T135128Z
UID:10000249-1693476000-1693522800@ohp.clientdev.site
SUMMARY:We’ve overcome some emergencies in Louisiana. Let’s prepare for the next one.
DESCRIPTION:Throughout the months of July and August\, Jim Pittman\, Director of Medicare Advantage Communications\, Ochsner Health Plan\, will be presenting important tips for seniors to consider in preparation for a hurricane season. BINGO following.
URL:https://ohp.clientdev.site/event/weve-overcome-some-emergencies-in-louisiana-lets-prepare-for-the-next-one-11/
LOCATION:Jefferson Senior Center “The Pink House”\, 4518 Jefferson Hwy.\, Jefferson\, LA\, 70121\, United States
ATTACH;FMTTYPE=image/jpeg:https://ohp.clientdev.site/wp-content/uploads/2023/07/Emergency-graphic.jpg
ORGANIZER;CN="Angela Pigford%2C Ochsner Health Plan":MAILTO:angela.pigford@ochsner.org
END:VEVENT
BEGIN:VEVENT
DTSTART;TZID=America/Chicago:20230831T090000
DTEND;TZID=America/Chicago:20230831T110000
DTSTAMP:20260422T172218
CREATED:20230110T140820Z
LAST-MODIFIED:20231006T155240Z
UID:10000361-1693472400-1693479600@ohp.clientdev.site
SUMMARY:Covington: OHP Informational Meeting
DESCRIPTION:Find out more about OCHSNER HEALTH PLAN’S Medicare Advantage Plans at a FREE informational meeting. There’s no obligation for attending. Please bring friends! \nCall toll-free to reserve your seat at any of the FREE meetings or to learn more about other meetings in your area: (855) 431 – 3497 (TTY: 711) 8 a.m. to 8 p.m. Monday through Friday. Reservations requested but not required.\nOr fill out the form below:
URL:https://ohp.clientdev.site/event/covington-ohp-informational-meeting/2023-08-31/
LOCATION:Ochsner Health Center – Covington\, 1000 Ochsner Blvd Rm 2518\, Covington\, 70433
CATEGORIES:Northshore
END:VEVENT
BEGIN:VEVENT
DTSTART;TZID=America/Chicago:20230829T090000
DTEND;TZID=America/Chicago:20230829T110000
DTSTAMP:20260422T172218
CREATED:20230110T140820Z
LAST-MODIFIED:20231006T155240Z
UID:10000360-1693299600-1693306800@ohp.clientdev.site
SUMMARY:Covington: OHP Informational Meeting
DESCRIPTION:Find out more about OCHSNER HEALTH PLAN’S Medicare Advantage Plans at a FREE informational meeting. There’s no obligation for attending. Please bring friends! \nCall toll-free to reserve your seat at any of the FREE meetings or to learn more about other meetings in your area: (855) 431 – 3497 (TTY: 711) 8 a.m. to 8 p.m. Monday through Friday. Reservations requested but not required.\nOr fill out the form below:
URL:https://ohp.clientdev.site/event/covington-ohp-informational-meeting/2023-08-29/
LOCATION:Ochsner Health Center – Covington\, 1000 Ochsner Blvd Rm 2518\, Covington\, 70433
CATEGORIES:Northshore
END:VEVENT
BEGIN:VEVENT
DTSTART;TZID=America/Chicago:20230828T100000
DTEND;TZID=America/Chicago:20230828T110000
DTSTAMP:20260422T172218
CREATED:20230727T134815Z
LAST-MODIFIED:20230727T134815Z
UID:10000248-1693216800-1693220400@ohp.clientdev.site
SUMMARY:We’ve overcome some emergencies in Louisiana. Let’s prepare for the next one.
DESCRIPTION:Throughout the months of July and August\, Jim Pittman\, Director of Medicare Advantage Communications\, Ochsner Health Plan\, will be presenting important tips for seniors to consider in preparation for a hurricane season. BINGO following.
URL:https://ohp.clientdev.site/event/weve-overcome-some-emergencies-in-louisiana-lets-prepare-for-the-next-one-10/
LOCATION:COAST Madisonville Activity Center\, 403 St. Francis Street\, Madisonville\, LA\, United States
ATTACH;FMTTYPE=image/jpeg:https://ohp.clientdev.site/wp-content/uploads/2023/07/Emergency-graphic.jpg
ORGANIZER;CN="Angela Pigford%2C Ochsner Health Plan":MAILTO:angela.pigford@ochsner.org
END:VEVENT
BEGIN:VEVENT
DTSTART;TZID=America/Chicago:20230824T090000
DTEND;TZID=America/Chicago:20230824T110000
DTSTAMP:20260422T172218
CREATED:20230110T140820Z
LAST-MODIFIED:20231006T155240Z
UID:10000359-1692867600-1692874800@ohp.clientdev.site
SUMMARY:Covington: OHP Informational Meeting
DESCRIPTION:Find out more about OCHSNER HEALTH PLAN’S Medicare Advantage Plans at a FREE informational meeting. There’s no obligation for attending. Please bring friends! \nCall toll-free to reserve your seat at any of the FREE meetings or to learn more about other meetings in your area: (855) 431 – 3497 (TTY: 711) 8 a.m. to 8 p.m. Monday through Friday. Reservations requested but not required.\nOr fill out the form below:
URL:https://ohp.clientdev.site/event/covington-ohp-informational-meeting/2023-08-24/
LOCATION:Ochsner Health Center – Covington\, 1000 Ochsner Blvd Rm 2518\, Covington\, 70433
CATEGORIES:Northshore
END:VEVENT
BEGIN:VEVENT
DTSTART;TZID=America/Chicago:20230823T093000
DTEND;TZID=America/Chicago:20230823T110000
DTSTAMP:20260422T172218
CREATED:20230727T134501Z
LAST-MODIFIED:20230727T134501Z
UID:10000247-1692783000-1692788400@ohp.clientdev.site
SUMMARY:We’ve overcome some emergencies in Louisiana. Let’s prepare for the next one.
DESCRIPTION:Throughout the months of July and August\, Jim Pittman\, Director of Medicare Advantage Communications\, Ochsner Health Plan\, will be presenting important tips for seniors to consider in preparation for a hurricane season. BINGO following!
URL:https://ohp.clientdev.site/event/weve-overcome-some-emergencies-in-louisiana-lets-prepare-for-the-next-one-9/
LOCATION:COAST Folsom Activity Center\, 13296 LA 40\, Folsom\, LA\, United States
ATTACH;FMTTYPE=image/jpeg:https://ohp.clientdev.site/wp-content/uploads/2023/07/Emergency-graphic.jpg
ORGANIZER;CN="Angela Pigford%2C Ochsner Health Plan":MAILTO:angela.pigford@ochsner.org
END:VEVENT
BEGIN:VEVENT
DTSTART;TZID=America/Chicago:20230822T090000
DTEND;TZID=America/Chicago:20230822T110000
DTSTAMP:20260422T172218
CREATED:20230110T140820Z
LAST-MODIFIED:20231006T155240Z
UID:10000358-1692694800-1692702000@ohp.clientdev.site
SUMMARY:Covington: OHP Informational Meeting
DESCRIPTION:Find out more about OCHSNER HEALTH PLAN’S Medicare Advantage Plans at a FREE informational meeting. There’s no obligation for attending. Please bring friends! \nCall toll-free to reserve your seat at any of the FREE meetings or to learn more about other meetings in your area: (855) 431 – 3497 (TTY: 711) 8 a.m. to 8 p.m. Monday through Friday. Reservations requested but not required.\nOr fill out the form below:
URL:https://ohp.clientdev.site/event/covington-ohp-informational-meeting/2023-08-22/
LOCATION:Ochsner Health Center – Covington\, 1000 Ochsner Blvd Rm 2518\, Covington\, 70433
CATEGORIES:Northshore
END:VEVENT
BEGIN:VEVENT
DTSTART;TZID=America/Chicago:20230818T100000
DTEND;TZID=America/Chicago:20230818T110000
DTSTAMP:20260422T172218
CREATED:20230711T205053Z
LAST-MODIFIED:20230711T205107Z
UID:10000244-1692352800-1692356400@ohp.clientdev.site
SUMMARY:How Prescription Drugs Interact Against Each Other\, Food\, Alcohol\, Supplements\, and Your Body
DESCRIPTION:By Alan G. Bayham\, RPh\, MAOM\, AVP\, Medical Affairs\, Ochsner Health Plan \nAre you aware that some prescribed medications do not work well with others? In fact\, there are many over-the-counter medications and supplements that might negate the effectiveness of prescribed drugs. Even some food and drink like fruit juices\, diary products and green leafy vegetables might have a negative impact on the drugs that were prescribed by your physician to treat your medical condition. In fact\, grapefruit and its juice alone can interact with more than 80 different medicines
URL:https://ohp.clientdev.site/event/how-prescription-drugs-interact-against-each-other-food-alcohol-supplements-and-your-body/
LOCATION:Ochsner Main Campus – 1st Floor Monroe Hall\, 1514 Jefferson Hwy\, New Orleans\, LA\, 70121\, United States
ATTACH;FMTTYPE=image/jpeg:https://ohp.clientdev.site/wp-content/uploads/2023/02/OHP-23-18-Graphics-for-Alan-Bayham-article-1078x720-OTT-2b-scaled.jpg
END:VEVENT
BEGIN:VEVENT
DTSTART;TZID=America/Chicago:20230817T090000
DTEND;TZID=America/Chicago:20230817T110000
DTSTAMP:20260422T172218
CREATED:20230110T140820Z
LAST-MODIFIED:20231006T155240Z
UID:10000357-1692262800-1692270000@ohp.clientdev.site
SUMMARY:Covington: OHP Informational Meeting
DESCRIPTION:Find out more about OCHSNER HEALTH PLAN’S Medicare Advantage Plans at a FREE informational meeting. There’s no obligation for attending. Please bring friends! \nCall toll-free to reserve your seat at any of the FREE meetings or to learn more about other meetings in your area: (855) 431 – 3497 (TTY: 711) 8 a.m. to 8 p.m. Monday through Friday. Reservations requested but not required.\nOr fill out the form below:
URL:https://ohp.clientdev.site/event/covington-ohp-informational-meeting/2023-08-17/
LOCATION:Ochsner Health Center – Covington\, 1000 Ochsner Blvd Rm 2518\, Covington\, 70433
CATEGORIES:Northshore
END:VEVENT
BEGIN:VEVENT
DTSTART;TZID=America/Chicago:20230815T121500
DTEND;TZID=America/Chicago:20230815T131500
DTSTAMP:20260422T172218
CREATED:20230711T204411Z
LAST-MODIFIED:20230711T204420Z
UID:10000243-1692101700-1692105300@ohp.clientdev.site
SUMMARY:We’ve overcome some emergencies in Louisiana. Let’s prepare for the next one.
DESCRIPTION:Throughout the months of July and August\, Jim Pittman\, Director of Medicare Advantage Communications\, Ochsner Health Plan\, will be presenting important tips for seniors to consider in preparation for a hurricane season.
URL:https://ohp.clientdev.site/event/weve-overcome-some-emergencies-in-louisiana-lets-prepare-for-the-next-one-6/
LOCATION:Piccadilly\, 2222 Clearview Parkway Suite 107\, Metairie\, LA\, 70001\, United States
ATTACH;FMTTYPE=image/jpeg:https://ohp.clientdev.site/wp-content/uploads/2023/07/Emergency-graphic.jpg
ORGANIZER;CN="Sabrina Champagne%2C Ochsner Golden Opportunity":MAILTO:sabrina.champagne@ochsner.org
END:VEVENT
BEGIN:VEVENT
DTSTART;TZID=America/Chicago:20230815T090000
DTEND;TZID=America/Chicago:20230815T110000
DTSTAMP:20260422T172218
CREATED:20230110T140820Z
LAST-MODIFIED:20231006T155240Z
UID:10000356-1692090000-1692097200@ohp.clientdev.site
SUMMARY:Covington: OHP Informational Meeting
DESCRIPTION:Find out more about OCHSNER HEALTH PLAN’S Medicare Advantage Plans at a FREE informational meeting. There’s no obligation for attending. Please bring friends! \nCall toll-free to reserve your seat at any of the FREE meetings or to learn more about other meetings in your area: (855) 431 – 3497 (TTY: 711) 8 a.m. to 8 p.m. Monday through Friday. Reservations requested but not required.\nOr fill out the form below:
URL:https://ohp.clientdev.site/event/covington-ohp-informational-meeting/2023-08-15/
LOCATION:Ochsner Health Center – Covington\, 1000 Ochsner Blvd Rm 2518\, Covington\, 70433
CATEGORIES:Northshore
END:VEVENT
BEGIN:VEVENT
DTSTART;TZID=America/Chicago:20230811T100000
DTEND;TZID=America/Chicago:20230811T233000
DTSTAMP:20260422T172218
CREATED:20230727T135837Z
LAST-MODIFIED:20230727T135855Z
UID:10000251-1691748000-1691796600@ohp.clientdev.site
SUMMARY:We’ve overcome some emergencies in Louisiana. Let’s prepare for the next one.
DESCRIPTION:Throughout the months of July and August\, Jim Pittman\, Director of Medicare Advantage Communications\, Ochsner Health Plan\, will be presenting important tips for seniors to consider in preparation for a hurricane season.
URL:https://ohp.clientdev.site/event/weve-overcome-some-emergencies-in-louisiana-lets-prepare-for-the-next-one-12/
LOCATION:Ochsner 65 Plus – Covington\, 1581 N HWY 190\, Covington\, LA\, 70433\, United States
ATTACH;FMTTYPE=image/jpeg:https://ohp.clientdev.site/wp-content/uploads/2023/07/Emergency-graphic.jpg
ORGANIZER;CN="Angela Pigford%2C Ochsner Health Plan":MAILTO:angela.pigford@ochsner.org
END:VEVENT
END:VCALENDAR