BEGIN:VCALENDAR
VERSION:2.0
PRODID:-//Ochsner Health Plan - ECPv6.7.0//NONSGML v1.0//EN
CALSCALE:GREGORIAN
METHOD:PUBLISH
X-WR-CALNAME:Ochsner Health Plan
X-ORIGINAL-URL:https://ohp.clientdev.site
X-WR-CALDESC:Events for Ochsner Health Plan
REFRESH-INTERVAL;VALUE=DURATION:PT1H
X-Robots-Tag:noindex
X-PUBLISHED-TTL:PT1H
BEGIN:VTIMEZONE
TZID:America/Chicago
BEGIN:DAYLIGHT
TZOFFSETFROM:-0600
TZOFFSETTO:-0500
TZNAME:CDT
DTSTART:20240310T080000
END:DAYLIGHT
BEGIN:STANDARD
TZOFFSETFROM:-0500
TZOFFSETTO:-0600
TZNAME:CST
DTSTART:20241103T070000
END:STANDARD
END:VTIMEZONE
BEGIN:VEVENT
DTSTART;TZID=America/Chicago:20241120T100000
DTEND;TZID=America/Chicago:20241120T110000
DTSTAMP:20260421T045609
CREATED:20230821T221102Z
LAST-MODIFIED:20240930T195400Z
UID:10000539-1732096800-1732100400@ohp.clientdev.site
SUMMARY:Ochsner Medical Complex - Clearview: OHP 2025 Plans Sales Seminar
DESCRIPTION:Find out more about OCHSNER HEALTH PLAN’S Medicare Advantage Plans at a FREE informational meeting. There’s no obligation for attending. Please bring friends! \nOchsner Medical Complex – Clearview\, 4430 Veterans Memorial Blvd\, 3rd Floor Classroom\, Metairie\, LA 70006 \nCall toll-free to reserve your seat at any of the FREE meetings or to learn more about other meetings in your area: (855) 431 – 3497 (TTY: 711) 8 a.m. to 8 p.m. Monday through Friday. Reservations requested but not required.
URL:https://ohp.clientdev.site/event/ochsner-medical-complex-clearview-ohp-informational-meeting/2024-11-20/
LOCATION:Ochsner Medical Complex – Clearview\, 4430 Veterans Memorial Blvd\, 3rd Floor Classroom\, Metairie\, LA 70006\, 4430 Veterans Memorial Blvd\, Metairie\, LA\, 70006\, United States
CATEGORIES:New Orleans
ATTACH;FMTTYPE=image/jpeg:https://ohp.clientdev.site/wp-content/uploads/2023/08/ohp-events-image-man-piano.jpg
END:VEVENT
BEGIN:VEVENT
DTSTART;TZID=America/Chicago:20241120T100000
DTEND;TZID=America/Chicago:20241120T110000
DTSTAMP:20260421T045609
CREATED:20240930T190444Z
LAST-MODIFIED:20241028T174141Z
UID:10000599-1732096800-1732100400@ohp.clientdev.site
SUMMARY:St. Bernard Medical Center - OHP 2025 Plans Sales Seminar
DESCRIPTION:Find out more about OCHSNER HEALTH PLAN’S Medicare Advantage Plans at a FREE informational meeting. There’s no obligation for attending. Please bring friends! \nSt. Bernard Medical Center: Hand Conference Center – 8050 W Judge Perez\, Medical Office Building\, Chalmette\, LA 70043 \nCall toll-free to reserve your seat at any of the FREE meetings or to learn more about other meetings in your area: (855) 431 – 3497 (TTY: 711) 8 a.m. to 8 p.m. Monday through Friday. Reservations requested but not required.
URL:https://ohp.clientdev.site/event/st-bernard-medical-center-ohp-informational-meeting/2024-11-20/1/
LOCATION:St. Bernard Medical Center – Medical Office Building: Hand Conference Center\, 8050 W Judge Perez\, Medical Office Building\, Chalmette\, LA\, 70043\, United States
CATEGORIES:St. Bernard
ATTACH;FMTTYPE=image/jpeg:https://ohp.clientdev.site/wp-content/uploads/2024/09/ohp-events-image-wheelbarrow-couple.jpg
END:VEVENT
BEGIN:VEVENT
DTSTART;TZID=America/Chicago:20241120T140000
DTEND;TZID=America/Chicago:20241120T150000
DTSTAMP:20260421T045609
CREATED:20240930T190444Z
LAST-MODIFIED:20241028T174141Z
UID:10000600-1732111200-1732114800@ohp.clientdev.site
SUMMARY:St. Bernard Medical Center - OHP 2025 Plans Sales Seminar
DESCRIPTION:Find out more about OCHSNER HEALTH PLAN’S Medicare Advantage Plans at a FREE informational meeting. There’s no obligation for attending. Please bring friends! \nSt. Bernard Medical Center: Hand Conference Center – 8050 W Judge Perez\, Medical Office Building\, Chalmette\, LA 70043 \nCall toll-free to reserve your seat at any of the FREE meetings or to learn more about other meetings in your area: (855) 431 – 3497 (TTY: 711) 8 a.m. to 8 p.m. Monday through Friday. Reservations requested but not required.
URL:https://ohp.clientdev.site/event/st-bernard-medical-center-ohp-informational-meeting/2024-11-20/2/
LOCATION:St. Bernard Medical Center – Medical Office Building: Hand Conference Center\, 8050 W Judge Perez\, Medical Office Building\, Chalmette\, LA\, 70043\, United States
CATEGORIES:St. Bernard
ATTACH;FMTTYPE=image/jpeg:https://ohp.clientdev.site/wp-content/uploads/2024/09/ohp-events-image-wheelbarrow-couple.jpg
END:VEVENT
END:VCALENDAR