BEGIN:VCALENDAR
VERSION:2.0
PRODID:-//Ochsner Health Plan - ECPv6.7.0//NONSGML v1.0//EN
CALSCALE:GREGORIAN
METHOD:PUBLISH
X-ORIGINAL-URL:https://ohp.clientdev.site
X-WR-CALDESC:Events for Ochsner Health Plan
REFRESH-INTERVAL;VALUE=DURATION:PT1H
X-Robots-Tag:noindex
X-PUBLISHED-TTL:PT1H
BEGIN:VTIMEZONE
TZID:America/Chicago
BEGIN:DAYLIGHT
TZOFFSETFROM:-0600
TZOFFSETTO:-0500
TZNAME:CDT
DTSTART:20240310T080000
END:DAYLIGHT
BEGIN:STANDARD
TZOFFSETFROM:-0500
TZOFFSETTO:-0600
TZNAME:CST
DTSTART:20241103T070000
END:STANDARD
END:VTIMEZONE
BEGIN:VEVENT
DTSTART;TZID=America/Chicago:20241008T100000
DTEND;TZID=America/Chicago:20241008T110000
DTSTAMP:20260421T062320
CREATED:20240930T190444Z
LAST-MODIFIED:20241028T174141Z
UID:10000566-1728381600-1728385200@ohp.clientdev.site
SUMMARY:St. Bernard Medical Center - OHP 2025 Plans Sales Seminar
DESCRIPTION:Find out more about OCHSNER HEALTH PLAN’S Medicare Advantage Plans at a FREE informational meeting. There’s no obligation for attending. Please bring friends! \nSt. Bernard Medical Center: Hand Conference Center – 8050 W Judge Perez\, Medical Office Building\, Chalmette\, LA 70043 \nCall toll-free to reserve your seat at any of the FREE meetings or to learn more about other meetings in your area: (855) 431 – 3497 (TTY: 711) 8 a.m. to 8 p.m. Monday through Friday. Reservations requested but not required.
URL:https://ohp.clientdev.site/event/st-bernard-medical-center-ohp-informational-meeting/2024-10-08/
LOCATION:St. Bernard Medical Center – Medical Office Building: Hand Conference Center\, 8050 W Judge Perez\, Medical Office Building\, Chalmette\, LA\, 70043\, United States
CATEGORIES:St. Bernard
ATTACH;FMTTYPE=image/jpeg:https://ohp.clientdev.site/wp-content/uploads/2024/09/ohp-events-image-wheelbarrow-couple.jpg
END:VEVENT
BEGIN:VEVENT
DTSTART;TZID=America/Chicago:20241008T140000
DTEND;TZID=America/Chicago:20241008T160000
DTSTAMP:20260421T062320
CREATED:20230821T214301Z
LAST-MODIFIED:20240930T195547Z
UID:10000481-1728396000-1728403200@ohp.clientdev.site
SUMMARY:Baton Rouge Area: OHP 2025 Plans Sales Seminar
DESCRIPTION:Find out more about OCHSNER HEALTH PLAN’S Medicare Advantage Plans at a FREE informational meeting. There’s no obligation for attending. Please bring friends! \n10310 The Grove Blvd\, HG Fifth Floor Classroom\, Baton Rouge LA\, 70836 \nCall toll-free to reserve your seat at any of the FREE meetings or to learn more about other meetings in your area: (855) 431-3497 (TTY: 711) 8 a.m. to 8 p.m. Monday through Friday. Reservations requested but not required.
URL:https://ohp.clientdev.site/event/baton-rouge-area-ohp-informational-meeting/2024-10-08/
LOCATION:Ochsner Medical Complex – The Grove\, 10310 The Grove Blvd\, Baton Rouge\, 70836
CATEGORIES:Baton Rouge
ATTACH;FMTTYPE=image/jpeg:https://ohp.clientdev.site/wp-content/uploads/2023/08/385036538_333506275861199_8561007037333962504_n.jpg
END:VEVENT
END:VCALENDAR