BEGIN:VCALENDAR
VERSION:2.0
PRODID:-//Ochsner Health Plan - ECPv6.7.0//NONSGML v1.0//EN
CALSCALE:GREGORIAN
METHOD:PUBLISH
X-ORIGINAL-URL:https://ohp.clientdev.site
X-WR-CALDESC:Events for Ochsner Health Plan
REFRESH-INTERVAL;VALUE=DURATION:PT1H
X-Robots-Tag:noindex
X-PUBLISHED-TTL:PT1H
BEGIN:VTIMEZONE
TZID:America/Chicago
BEGIN:DAYLIGHT
TZOFFSETFROM:-0600
TZOFFSETTO:-0500
TZNAME:CDT
DTSTART:20240310T080000
END:DAYLIGHT
BEGIN:STANDARD
TZOFFSETFROM:-0500
TZOFFSETTO:-0600
TZNAME:CST
DTSTART:20241103T070000
END:STANDARD
END:VTIMEZONE
BEGIN:VEVENT
DTSTART;TZID=America/Chicago:20241003T090000
DTEND;TZID=America/Chicago:20241003T110000
DTSTAMP:20260421T060806
CREATED:20230821T215343Z
LAST-MODIFIED:20240930T195658Z
UID:10000500-1727946000-1727953200@ohp.clientdev.site
SUMMARY:Covington: OHP 2025 Plans Sales Seminar
DESCRIPTION:Find out more about OCHSNER HEALTH PLAN’S Medicare Advantage Plans at a FREE informational meeting. There’s no obligation for attending. Please bring friends! \nOchsner Health Center\, 1000 Ochsner Blvd\, Room #2518 – Covington Training Room\, Covington\, LA 70433 \nCall toll-free to reserve your seat at any of the FREE meetings or to learn more about other meetings in your area: (855) 431 – 3497 (TTY: 711) 8 a.m. to 8 p.m. Monday through Friday. Reservations requested but not required.
URL:https://ohp.clientdev.site/event/covington-ohp-informational-meeting-4/2024-10-03/
LOCATION:Ochsner Health Center – Covington\, 1000 Ochsner Blvd Rm 2518\, Covington\, 70433
CATEGORIES:Northshore
ATTACH;FMTTYPE=image/jpeg:https://ohp.clientdev.site/wp-content/uploads/2023/08/ohp-events-image-dancing-couple.jpg
END:VEVENT
BEGIN:VEVENT
DTSTART;TZID=America/Chicago:20241003T100000
DTEND;TZID=America/Chicago:20241003T110000
DTSTAMP:20260421T060806
CREATED:20230821T165357Z
LAST-MODIFIED:20241002T151337Z
UID:10000592-1727949600-1727953200@ohp.clientdev.site
SUMMARY:NOLA Area: OHP 2025 Plans Sales Seminar
DESCRIPTION:Find out more about OCHSNER HEALTH PLAN’S Medicare Advantage Plans at a FREE informational meeting. There’s no obligation for attending. Please bring friends! \nOchsner Medical Center Seminar\n1514 Jefferson Hwy\, 1st Floor Monroe Hall\, New Orleans\, LA 70121 \nCall toll-free to reserve your seat at any of the FREE meetings or to learn more about other meetings in your area: (855) 431-3497 (TTY: 711) 8 a.m. to 8 p.m. Monday through Friday. Reservations requested but not required.
URL:https://ohp.clientdev.site/event/nola-area-ohp-informational-meeting/2024-10-03/
LOCATION:Ochsner Main Campus – 1st Floor Monroe Hall\, 1514 Jefferson Hwy\, New Orleans\, LA\, 70121\, United States
CATEGORIES:New Orleans
ATTACH;FMTTYPE=image/jpeg:https://ohp.clientdev.site/wp-content/uploads/2023/08/385004329_333504622528031_9171165966012404621_n.jpg
ORGANIZER;CN="Angela Pigford%2C Ochsner Health Plan":MAILTO:angela.pigford@ochsner.org
END:VEVENT
BEGIN:VEVENT
DTSTART;TZID=America/Chicago:20241003T130000
DTEND;TZID=America/Chicago:20241003T140000
DTSTAMP:20260421T060806
CREATED:20240930T204502Z
LAST-MODIFIED:20240930T204502Z
UID:10000585-1727960400-1727964000@ohp.clientdev.site
SUMMARY:Lafayette Area: OHP 2025 Plans Sales Seminar
DESCRIPTION:Find out more about OCHSNER HEALTH PLAN’S Medicare Advantage Plans at a FREE sales seminar. There’s no obligation for attending. Please bring friends! \nOchsner Lafayette General Orthopedic\nMedical Office Building on the 2nd floor\n2810 Ambassador Caffery Pkwy\, Lafayette LA 70506 \nCall toll-free to reserve your seat at any of the FREE meetings or to learn more about other meetings in your area: (855) 431 – 3497 (TTY: 711) 8 a.m. to 8 p.m. Monday through Friday. Reservations requested but not required.
URL:https://ohp.clientdev.site/event/lafayette-area-ohp-2025-plans-sales-seminar/2024-10-03/
LOCATION:Ochsner Lafayette General Orthopedic Medical Office Building – 2nd floor\, 2810 Ambassador Caffery Pkwy\, Lafayette\, LA\, 70506\, United States
CATEGORIES:Lafayette
ATTACH;FMTTYPE=image/jpeg:https://ohp.clientdev.site/wp-content/uploads/2023/08/ohp-events-image-shop-couple-in-aprons.jpg
END:VEVENT
END:VCALENDAR