BEGIN:VCALENDAR
VERSION:2.0
PRODID:-//Ochsner Health Plan - ECPv6.7.0//NONSGML v1.0//EN
CALSCALE:GREGORIAN
METHOD:PUBLISH
X-ORIGINAL-URL:https://ohp.clientdev.site
X-WR-CALDESC:Events for Ochsner Health Plan
REFRESH-INTERVAL;VALUE=DURATION:PT1H
X-Robots-Tag:noindex
X-PUBLISHED-TTL:PT1H
BEGIN:VTIMEZONE
TZID:America/Chicago
BEGIN:DAYLIGHT
TZOFFSETFROM:-0600
TZOFFSETTO:-0500
TZNAME:CDT
DTSTART:20240310T080000
END:DAYLIGHT
BEGIN:STANDARD
TZOFFSETFROM:-0500
TZOFFSETTO:-0600
TZNAME:CST
DTSTART:20241103T070000
END:STANDARD
END:VTIMEZONE
BEGIN:VEVENT
DTSTART;TZID=America/Chicago:20240229T103000
DTEND;TZID=America/Chicago:20240229T113000
DTSTAMP:20260421T172904
CREATED:20240227T211101Z
LAST-MODIFIED:20240930T195754Z
UID:10000464-1709202600-1709206200@ohp.clientdev.site
SUMMARY:Ochsner 65 Plus – Baton Rouge: OHP 2025 Plans Sales Seminar
DESCRIPTION:Find out more about OCHSNER HEALTH PLAN’S Medicare Advantage Plans at a FREE informational meeting. There’s no obligation for attending. Please bring friends! \nOchsner 65 Plus-Bocage (Baton Rouge) \nCall toll-free to reserve your seat at any of the FREE meetings or to learn more about other meetings in your area: (855) 431 – 3497 (TTY: 711) 8 a.m. to 8 p.m. Monday through Friday. Reservations requested but not required.
URL:https://ohp.clientdev.site/event/ochsner-65-plus-baton-rouge-ohp-informational-meeting-2/2024-02-29/
LOCATION:Ochsner 65 Plus – Baton Rouge\, 7949 Jefferson Hwy\, Baton Rouge\, LA\, 70809\, United States
CATEGORIES:Baton Rouge
ATTACH;FMTTYPE=image/jpeg:https://ohp.clientdev.site/wp-content/uploads/2023/08/385070178_333498119195348_7352100188805809439_n.jpg
END:VEVENT
END:VCALENDAR