BEGIN:VCALENDAR
VERSION:2.0
PRODID:-//Ochsner Health Plan - ECPv6.7.0//NONSGML v1.0//EN
CALSCALE:GREGORIAN
METHOD:PUBLISH
X-ORIGINAL-URL:https://ohp.clientdev.site
X-WR-CALDESC:Events for Ochsner Health Plan
REFRESH-INTERVAL;VALUE=DURATION:PT1H
X-Robots-Tag:noindex
X-PUBLISHED-TTL:PT1H
BEGIN:VTIMEZONE
TZID:America/Chicago
BEGIN:DAYLIGHT
TZOFFSETFROM:-0600
TZOFFSETTO:-0500
TZNAME:CDT
DTSTART:20230312T080000
END:DAYLIGHT
BEGIN:STANDARD
TZOFFSETFROM:-0500
TZOFFSETTO:-0600
TZNAME:CST
DTSTART:20231105T070000
END:STANDARD
END:VTIMEZONE
BEGIN:VEVENT
DTSTART;TZID=America/Chicago:20231007T100000
DTEND;TZID=America/Chicago:20231007T230000
DTSTAMP:20260425T172410
CREATED:20231006T162524Z
LAST-MODIFIED:20231006T162608Z
UID:10000383-1696672800-1696719600@ohp.clientdev.site
SUMMARY:Harahan: OHP Informational Meeting
DESCRIPTION:Find out more about OCHSNER HEALTH PLAN’S Medicare Advantage Plans at a FREE informational meeting. There’s no obligation for attending. Please bring friends! \nOchsner Fitness Center Harahan (Elmwood)\n1200 S. Clearview Pkwy\, Elmwood\, LA 70123				 \nCall toll-free to reserve your seat at any of the FREE meetings or to learn more about other meetings in your area: (855) 431 – 3497 (TTY: 711) 8 a.m. to 8 p.m. Monday through Friday. Reservations requested but not required.
URL:https://ohp.clientdev.site/event/harahan-ohp-informational-meeting-2/2023-10-07/
LOCATION:Ochsner Fitness Center – Harahan\, Auditorium\, 1200 S Clearview Pkwy\, Elmwood\, LA\, 70123\, United States
CATEGORIES:New Orleans
END:VEVENT
END:VCALENDAR